{"text_format":"3","workbook":"xlsx","n_sheets":2,"sheets":["Eingabe und Diagramm","Berechnung"],"not_rendered":{"charts":4,"images":3,"defined_names":37,"comments":1},"read":"whole","date_system":"1900"}

{"sheet":"Eingabe und Diagramm","index":0,"n_rows":205,"n_cols":42,"rows_kept":205,"merged":[[1,1,1,12],[1,13,1,19],[3,13,3,15],[4,13,4,15],[6,14,6,15],[7,14,7,15],[8,14,8,15],[9,14,9,15],[10,14,10,15],[11,14,11,15],[12,14,12,15],[13,14,13,15],[14,13,14,14],[15,13,15,14],[16,13,16,14],[17,13,17,14],[22,13,22,14],[22,47,22,49],[23,13,23,14],[24,13,24,14],[25,13,25,14],[27,13,27,14],[28,13,28,14],[29,13,29,14],[30,13,30,14],[32,13,35,13],[37,13,37,14],[38,13,38,14],[40,13,40,15],[41,13,43,13],[45,13,45,15],[46,13,48,13],[75,15,75,24]]}
[]
[{"$nulls":13},{"$f":" IF(AB2=1, \"Prozess- oder Maschinenfähigkeit\", \"Short-term process or maschine capability\")","v":"Short-term process or maschine capability"},{"$nulls":6},"\n",{"$nulls":6},2]
[]
[null,"n","xn",null,"n","xn",null,"n","xn",null,"n","xn",null,{"$f":"IF(AB2=1, \"Werte können geändert werden\", \"Value can be changed\")","v":"Value can be changed"}]
[null,1,{"v":10.5,"d":"10.5000"},null,51,null,null,101,null,null,151,null,null,{"$f":"IF(AB2=1,\"Werte werden berechnet (Blatt Berechnung)\",\"Value will be calculated\")","v":"Value will be calculated"}]
[null,2,{"v":10.4,"d":"10.4000"},null,52,null,null,102,null,null,152]
[null,3,{"v":10.6,"d":"10.6000"},null,53,null,null,103,null,null,153,null,null,{"$f":"IF(AB2=1,\"Artikelname:\",\"Part name:\")","v":"Part name:"},"Testartikel1"]
[null,4,{"v":10.4,"d":"10.4000"},null,54,null,null,104,null,null,154,null,null,{"$f":"IF(AB2=1,\"Artikel Nr.:\",\"Part no.:\")","v":"Part no.:"},"Testartikelnummer"]
[null,5,{"v":10.5,"d":"10.5000"},null,55,null,null,105,null,null,155,null,null,{"$f":"IF(AB2=1,\"Zeichnungsnr.:\",\"Drawing no.:\")","v":"Drawing no.:"},"Zeichung 123"]
[null,6,{"v":10.5,"d":"10.5000"},null,56,null,null,106,null,null,156,null,null,{"$f":"IF(AB2=1,\"Prüfer:\",\"Inspector:\")","v":"Inspector:"},"Max Mustermann"]
[null,7,{"v":10.4,"d":"10.4000"},null,57,null,null,107,null,null,157,null,null,{"$f":"IF(AB2=1,\"Messmittel:\",\"Measuring device:\")","v":"Measuring device:"},"Messschieber"]
[null,8,{"v":10.3,"d":"10.3000"},null,58,null,null,108,null,null,158,null,null,{"$f":"IF(AB2=1,\"Datum:\",\"Date:\")","v":"Date:"},"1990-01-01"]
[null,9,{"v":10.5,"d":"10.5000"},null,59,null,null,109,null,null,159,null,null,{"$f":"IF(AB2=1,\"Merkmal:\",\"Attribute:\")","v":"Attribute:"},"Testmerkmal1"]
[null,10,{"v":10.6,"d":"10.6000"},null,60,null,null,110,null,null,160,null,null,{"$f":"IF(AB2=1,\"Maßeinheit:\",\"Measuring unit:\")","v":"Measuring unit:"},"mm"]
[null,11,{"v":10.4,"d":"10.4000"},null,61,null,null,111,null,null,161,null,null,{"$f":"IF(AB2=1,\"Sollwert =\",\"Nominal value =\")","v":"Nominal value ="},null,{"v":11,"d":"11.00000"}]
[null,12,{"v":10.5,"d":"10.5000"},null,62,null,null,112,null,null,162,null,null,{"$f":"IF(AB2=1,\"Unterer Grenzwert UGW =\",\"Lower spec. limit LSL =\")","v":"Lower spec. limit LSL ="},null,{"v":10,"d":"10.00000"}]
[null,13,{"v":10.7,"d":"10.7000"},null,63,null,null,113,null,null,163,null,null,{"$f":"IF(AB2=1,\"Oberer Grenzwert OGW =\",\"Upper spec. limit USL =\")","v":"Upper spec. limit USL ="},null,{"v":12,"d":"12.00000"}]
[null,14,{"v":10.5,"d":"10.5000"},null,64,null,null,114,null,null,164,null,null,{"$f":"IF(AB2=1,\"Anzahl Klassen Histogramm =\",\"Number of classes histogram =\")","v":"Number of classes histogram ="},null,5]
[null,15,{"v":10.8,"d":"10.8000"},null,65,null,null,115,null,null,165,null,null,"Cpk<",1.33,"Prozess nicht fähig"]
[null,16,{"v":10.6,"d":"10.6000"},null,66,null,null,116,null,null,166]
[null,17,{"v":10.6,"d":"10.6000"},null,67,null,null,117,null,null,167]
[null,18,{"v":10.5,"d":"10.5000"},null,68,null,null,118,null,null,168]
[null,19,{"v":10.3,"d":"10.3000"},null,69,null,null,119,null,null,169,null,null,{"$f":"IF(AB2=1,\"Umfang der Stichprobe n\",\"Sample size n\")","v":"Sample size n"},null,{"$f":"Anzahl","v":26}]
[null,20,{"v":10.4,"d":"10.4000"},null,70,null,null,120,null,null,170,null,null,{"$f":"IF(AB2=1,\"Mittelwert µ\",\"mid µ\")","v":"mid µ"},null,{"$f":"Mittelwert","v":{"v":10.504999999999997,"d":"10.50500"}}]
[null,21,{"v":10.4,"d":"10.4000"},null,71,null,null,121,null,null,171,null,null,{"$f":"IF(AB2=1,\"Standardabweichung s\",\"Standart deviation s\")","v":"Standart deviation s"},null,{"$f":"Standardabweichung","v":{"v":0.1262141038077755,"d":"0.12621"}}]
[null,22,{"v":10.6,"d":"10.6000"},null,72,null,null,122,null,null,172,null,null,{"$f":"IF(AB2=1,\"Die Werte sind\",\"Values are\")","v":"Values are"},null,{"$f":"IF(Berechnung!BM20<0.05,IF(AB2=2,\"not normal distributed\",\"nicht normalverteilt\"),IF(AB2=1,\"normalverteilt\",\"normal distributed\"))","v":"normal distributed"}]
[null,23,{"v":10.7,"d":"10.7000"},null,73,null,null,123,null,null,173]
[null,24,{"v":10.6,"d":"10.6000"},null,74,null,null,124,null,null,174,null,null,"Median z",null,{"$f":"Median","v":{"v":10.5,"d":"10.5000"}}]
[null,25,{"v":10.5,"d":"10.5000"},null,75,null,null,125,null,null,175,null,null,{"$f":"IF(AB2=1,\"Spannweite R\",\"Range R\")","v":"Range R"},null,{"$f":"Spannweite","v":{"v":0.5,"d":"0.5000"}}]
[null,26,{"v":10.33,"d":"10.3300"},null,76,null,null,126,null,null,176,null,null,"Minimum",null,{"$f":"Minimum","v":{"v":10.3,"d":"10.3000"}}]
[null,27,null,null,77,null,null,127,null,null,177,null,null,"Maximum",null,{"$f":"Maximum","v":{"v":10.8,"d":"10.8000"}}]
[null,28,null,null,78,null,null,128,null,null,178]
[null,29,null,null,79,null,null,129,null,null,179,null,null,{"$f":"IF(AB2=1,\"Fähigkeits\nkennwerte\",\"Capability indices\")","v":"Capability indices"},"Cpu/Cmu",{"$f":"CPU","v":{"v":1.3337125428526169,"d":"1.33"}}]
[null,30,null,null,80,null,null,130,null,null,180,{"$nulls":3},"Cpo/Cmo",{"$f":"CPO","v":{"v":3.948317329831043,"d":"3.95"}}]
[null,31,null,null,81,null,null,131,null,null,181,{"$nulls":3},"Cp/Cm",{"$f":"CP","v":{"v":2.64101493634183,"d":"2.64"}}]
[null,32,null,null,82,null,null,132,null,null,182,{"$nulls":3},"Cpk/Cmk",{"$f":"CPK","v":{"v":1.3337125428526169,"d":"1.33"}}]
[null,33,null,null,83,null,null,133,null,null,183]
[null,34,null,null,84,null,null,134,null,null,184,null,null,"Sigma LEVEL =",null,{"$f":"sigmalevel","v":{"v":4.001137628557911,"d":"4.0"}}]
[null,35,null,null,85,null,null,135,null,null,185,null,null,{"$f":"IF(AB2=1,\"pot. fehlerhafte Teile % =\",\"Potentially bad parts % =\")","v":"Potentially bad parts % ="},null,{"$f":"anteilnio","v":{"v":3.1519338660088092E-5,"d":"0.0032%"}}]
[null,36,null,null,86,null,null,136,null,null,186]
[null,37,null,null,87,null,null,137,null,null,187,null,null,{"$f":"IF(AB2=1,\"Berechnete Leistung DPPM\",\"Calculated performance in DPPM\")","v":"Calculated performance in DPPM"}]
[null,38,null,null,88,null,null,138,null,null,188,null,null,{"$f":"IF(AB2=1,\"Überschreitungs- \nanteil\",\"Exceedance\")","v":"Exceedance"},"pUGW",{"$f":"BERPUGW","v":{"v":31.519338660088092,"d":"32"}}]
[null,39,null,null,89,null,null,139,null,null,189,{"$nulls":3},"pOGW",{"$f":"BERPOGW","v":0}]
[null,40,null,null,90,null,null,140,null,null,190,{"$nulls":3},"p",{"$f":"BERP","v":{"v":31.519338660088092,"d":"32"}}]
[null,41,null,null,91,null,null,141,null,null,191]
[null,42,null,null,92,null,null,142,null,null,192,null,null,{"$f":"IF(AB2=1,\"Berechnete Leistung DPPM\",\"Observed performance in DPPM\")","v":"Observed performance in DPPM"}]
[null,43,null,null,93,null,null,143,null,null,193,null,null,{"$f":"IF(AB2=1,\"Überschreitungs- \nanteil\",\"Exceedance\")","v":"Exceedance"},"pUGW",{"$f":"BEOBPUGW","v":0}]
[null,44,null,null,94,null,null,144,null,null,194,{"$nulls":3},"pOGW",{"$f":"BEOBPOGW","v":0}]
[null,45,null,null,95,null,null,145,null,null,195,{"$nulls":3},"p",{"$f":"BEOBPPM","v":0}]
[null,46,null,null,96,null,null,146,null,null,196]
[null,47,null,null,97,null,null,147,null,null,197]
[null,48,null,null,98,null,null,148,null,null,198]
[null,49,null,null,99,null,null,149,null,null,199]
[null,50,null,null,100,null,null,150,null,null,200]
{"$rows_empty":150}
[{"$nulls":41},"Summe"]

{"sheet":"Berechnung","index":1,"n_rows":205,"n_cols":65,"rows_kept":205,"merged":[[1,1,1,12],[1,13,1,20],[1,29,1,43],[1,46,1,52],[1,54,1,64],[15,14,15,15],[57,15,57,24],[85,15,85,24]]}
[]
[{"$nulls":13},"Prozess- und Maschinenfähigkeit",{"$nulls":15},"Stichprobe chronologisch",{"$nulls":16},"Wahrscheinlichkeitsnetz",{"$nulls":7},"Test auf Normalverteilung (Anderson Darling)"]
[{"$nulls":42},"Beobachteter Überschr"]
[null,"i","xi",null,"i","xi",null,"i","xi",null,"i","xi",{"$nulls":17},"Zähler","X Wert","Y Wert",{"$f":"IF('Eingabe und Diagramm'!AB2=1,\"OGW\",\"USL\")","v":"USL"},{"$f":"IF('Eingabe und Diagramm'!AB2=1,\"UGW\",\"LSL\")","v":"LSL"},{"$f":"\" - 1 Sigma\"","v":" - 1 Sigma"},{"$f":"\" + 1 Sigma\"","v":" + 1 Sigma"},{"$f":"\"-  2 Sigma\"","v":"-  2 Sigma"},{"$f":"\" + 2 Sigma\"","v":" + 2 Sigma"},{"$f":"\" - 3 Sigma\"","v":" - 3 Sigma"},{"$f":"\" + 3 Sigma\"","v":" + 3 Sigma"},{"$f":"O13","v":"mid µ"},null,"PUGW","POGW",{"$nulls":3},"u","x-quer+u∙s","Helfer","Fehlerindikator",{"$nulls":3},"i","xi sortiert","Zähler",null,"BG",null,"S","z",null,"Wert","z"]
[null,1,{"$f":"IF('Eingabe und Diagramm'!C5=\"\",\"\",'Eingabe und Diagramm'!C5)","v":{"v":10.5,"d":"10.500"}},null,51,{"$f":"IF('Eingabe und Diagramm'!F5=\"\",\"\",'Eingabe und Diagramm'!F5)","v":""},null,101,{"$f":"IF('Eingabe und Diagramm'!I5=\"\",\"\",'Eingabe und Diagramm'!I5)","v":""},null,151,{"$f":"IF('Eingabe und Diagramm'!L5=\"\",\"\",'Eingabe und Diagramm'!L5)","v":""},null,null,{"$f":"'Eingabe und Diagramm'!N12","v":"Date:"},{"$f":"Datum","v":"1990-01-01"},{"$nulls":13},1,{"$f":"IF((Anzahl>AD5),AD5,Anzahl)","v":1},{"$f":"IF(C5<>\"\",C5,1)","v":10.5},{"$f":"IF(C5<>\"\",OGW,AG4)","v":12},{"$f":"IF(C5<>\"\",UGW,AH4)","v":10},{"$f":"Mittelwert-Standardabweichung","v":{"v":10.378785896192221,"d":"10.38"}},{"$f":"Mittelwert+Standardabweichung","v":{"v":10.631214103807773,"d":"10.63"}},{"$f":"Mittelwert-2*Standardabweichung","v":{"v":10.252571792384446,"d":"10.25"}},{"$f":"Mittelwert+2*Standardabweichung","v":{"v":10.757428207615549,"d":"10.76"}},{"$f":"Mittelwert-3*Standardabweichung","v":{"v":10.12635768857667,"d":"10.13"}},{"$f":"Mittelwert+3*Standardabweichung","v":{"v":10.883642311423325,"d":"10.88"}},{"$f":"Mittelwert","v":{"v":10.504999999999997,"d":"10.51"}},null,{"$f":"IF(AND(C5<>\"\",C5<UGW),1,0)","v":0},{"$f":"IF(AND(C5<>\"\",C5>OGW),1,0)","v":0},{"$nulls":3},-6,{"$f":"Mittelwert+AV5*Standardabweichung","v":{"v":9.747715377153344,"d":"9.748"}},3,{"$f":"AX5*2","v":6},{"$f":"AW5","v":{"v":9.747715377153344,"d":"9.748"}},null,null,1,{"$f":"IF(C5=\"\",NA(),SMALL(xi,BE5))","v":{"v":10.3,"d":"10.300"}},{"$f":"IF(C5=\"\",\"\",1)","v":1},{"$f":"IF(C5=\"\",\"\",NORMSDIST((BD5-Mittelwert)/Standardabweichung))","v":{"v":0.052163985425533146,"d":"0.0522"}},{"$f":"IF(C5=\"\",\"\",1-BF5)","v":{"v":0.9478360145744669,"d":"0.9478"}},{"$f":"IF(C5=\"\",\"\",SMALL(BG,BE5))","v":{"v":0.00971184155525684,"d":"0.0097"}},{"$f":"IF(C5=\"\",\"\",(2*BE5-1)*(LN(BH5)+LN(BF5)))","v":{"v":-7.58777231570956,"d":"-7.5878"}},{"$f":"IF(C5=\"\",NA(),NORMSINV((BE5-0.3)/(Anzahl+0.4)))","v":{"v":-1.9346740800992501,"d":"-1.9347"}},null,{"$f":"Standardabweichung*BM5+Mittelwert","v":{"v":10.883642311423325,"d":"10.8836"}},3]
[null,2,{"$f":"IF('Eingabe und Diagramm'!C6=\"\",\"\",'Eingabe und Diagramm'!C6)","v":{"v":10.4,"d":"10.400"}},null,52,{"$f":"IF('Eingabe und Diagramm'!F6=\"\",\"\",'Eingabe und Diagramm'!F6)","v":""},null,102,{"$f":"IF('Eingabe und Diagramm'!I6=\"\",\"\",'Eingabe und Diagramm'!I6)","v":""},null,152,{"$f":"IF('Eingabe und Diagramm'!L6=\"\",\"\",'Eingabe und Diagramm'!L6)","v":""},null,null,{"$f":"'Eingabe und Diagramm'!N13","v":"Attribute:"},{"$f":"Merkmal","v":"Testmerkmal1"},{"$nulls":13},2,2,{"$f":"IF(C6<>\"\",C6,AG5)","v":10.4},12,10,{"$f":"AI5","v":{"v":10.378785896192221,"d":"10.38"}},{"v":10.631214103807773,"d":"10.63"},{"v":10.252571792384446,"d":"10.25"},{"v":10.757428207615549,"d":"10.76"},{"v":10.12635768857667,"d":"10.13"},{"v":10.883642311423325,"d":"10.88"},{"v":10.504999999999997,"d":"10.51"},null,0,0,{"$nulls":3},-5,{"v":9.87392948096112,"d":"9.874"},3,{"$f":"AX6*2","v":6},{"$f":"AZ5","v":{"v":9.747715377153344,"d":"9.748"}},null,null,2,{"v":10.3,"d":"10.300"},{"$f":"IF(C6=\"\",\"\",1+BE5)","v":2},{"v":0.052163985425533146,"d":"0.0522"},{"v":0.9478360145744669,"d":"0.9478"},{"v":0.06117388904984389,"d":"0.0612"},{"v":-17.242193359804695,"d":"-17.2422"},{"v":-1.5188991668172815,"d":"-1.5189"},null,{"$f":"Standardabweichung*BM6+Mittelwert","v":{"v":10.504999999999997,"d":"10.5050"}},0]
[null,3,{"$f":"IF('Eingabe und Diagramm'!C7=\"\",\"\",'Eingabe und Diagramm'!C7)","v":{"v":10.6,"d":"10.600"}},null,53,{"$f":"IF('Eingabe und Diagramm'!F7=\"\",\"\",'Eingabe und Diagramm'!F7)","v":""},null,103,{"$f":"IF('Eingabe und Diagramm'!I7=\"\",\"\",'Eingabe und Diagramm'!I7)","v":""},null,153,{"$f":"IF('Eingabe und Diagramm'!L7=\"\",\"\",'Eingabe und Diagramm'!L7)","v":""},null,null,{"$f":"'Eingabe und Diagramm'!N14","v":"Measuring unit:"},{"$f":"Maßeinheit","v":"mm"},{"$nulls":13},3,3,{"$f":"IF(C7<>\"\",C7,AG6)","v":10.6},12,10,{"v":10.378785896192221,"d":"10.38"},{"v":10.631214103807773,"d":"10.63"},{"v":10.252571792384446,"d":"10.25"},{"v":10.757428207615549,"d":"10.76"},{"v":10.12635768857667,"d":"10.13"},{"v":10.883642311423325,"d":"10.88"},{"v":10.504999999999997,"d":"10.51"},null,0,0,{"$nulls":3},-4,{"v":10.000143584768896,"d":"10.000"},3,6,{"$f":"AZ6","v":{"v":9.747715377153344,"d":"9.748"}},null,null,3,{"v":10.33,"d":"10.330"},3,{"v":0.08279212960224834,"d":"0.0828"},{"v":0.9172078703977516,"d":"0.9172"},{"v":0.06117388904984389,"d":"0.0612"},{"v":-26.427285526193547,"d":"-26.4273"},{"v":-1.2687073653921925,"d":"-1.2687"},null,{"$f":"Standardabweichung*BM7+Mittelwert","v":{"v":10.12635768857667,"d":"10.1264"}},-3]
[null,4,{"$f":"IF('Eingabe und Diagramm'!C8=\"\",\"\",'Eingabe und Diagramm'!C8)","v":{"v":10.4,"d":"10.400"}},null,54,{"$f":"IF('Eingabe und Diagramm'!F8=\"\",\"\",'Eingabe und Diagramm'!F8)","v":""},null,104,{"$f":"IF('Eingabe und Diagramm'!I8=\"\",\"\",'Eingabe und Diagramm'!I8)","v":""},null,154,{"$f":"IF('Eingabe und Diagramm'!L8=\"\",\"\",'Eingabe und Diagramm'!L8)","v":""},null,null,{"$f":"'Eingabe und Diagramm'!N15","v":"Nominal value ="},{"$f":"Sollwert","v":{"v":11,"d":"11.00"}},{"$nulls":13},4,4,{"$f":"IF(C8<>\"\",C8,AF7)","v":10.4},12,10,{"v":10.378785896192221,"d":"10.38"},{"v":10.631214103807773,"d":"10.63"},{"v":10.252571792384446,"d":"10.25"},{"v":10.757428207615549,"d":"10.76"},{"v":10.12635768857667,"d":"10.13"},{"v":10.883642311423325,"d":"10.88"},{"v":10.504999999999997,"d":"10.51"},null,0,0,{"$nulls":3},-2,{"v":10.252571792384446,"d":"10.253"},3,6,{"v":9.747715377153344,"d":"9.748"},null,null,4,{"v":10.4,"d":"10.400"},4,{"v":0.20272713428452355,"d":"0.2027"},{"v":0.7972728657154764,"d":"0.7973"},{"v":0.22581833359455838,"d":"0.2258"},{"v":-21.58743164786449,"d":"-21.5874"},{"v":-1.0796388586671013,"d":"-1.0796"}]
[null,5,{"$f":"IF('Eingabe und Diagramm'!C9=\"\",\"\",'Eingabe und Diagramm'!C9)","v":{"v":10.5,"d":"10.500"}},null,55,{"$f":"IF('Eingabe und Diagramm'!F9=\"\",\"\",'Eingabe und Diagramm'!F9)","v":""},null,105,{"$f":"IF('Eingabe und Diagramm'!I9=\"\",\"\",'Eingabe und Diagramm'!I9)","v":""},null,155,{"$f":"IF('Eingabe und Diagramm'!L9=\"\",\"\",'Eingabe und Diagramm'!L9)","v":""},null,null,{"$f":"'Eingabe und Diagramm'!N16","v":"Lower spec. limit LSL ="},{"$f":"UGW","v":{"v":10,"d":"10.00"}},{"$nulls":13},5,5,10.5,12,10,{"v":10.378785896192221,"d":"10.38"},{"v":10.631214103807773,"d":"10.63"},{"v":10.252571792384446,"d":"10.25"},{"v":10.757428207615549,"d":"10.76"},{"v":10.12635768857667,"d":"10.13"},{"v":10.883642311423325,"d":"10.88"},{"v":10.504999999999997,"d":"10.51"},null,0,0,{"$nulls":3},-1,{"v":10.378785896192221,"d":"10.379"},3,6,{"v":9.747715377153344,"d":"9.748"},null,null,5,{"v":10.4,"d":"10.400"},5,{"v":0.20272713428452355,"d":"0.2027"},{"v":0.7972728657154764,"d":"0.7973"},{"v":0.22581833359455838,"d":"0.2258"},{"v":-27.755269261540057,"d":"-27.7553"},{"v":-0.9228975336066703,"d":"-0.9229"}]
[null,6,{"$f":"IF('Eingabe und Diagramm'!C10=\"\",\"\",'Eingabe und Diagramm'!C10)","v":{"v":10.5,"d":"10.500"}},null,56,{"$f":"IF('Eingabe und Diagramm'!F10=\"\",\"\",'Eingabe und Diagramm'!F10)","v":""},null,106,{"$f":"IF('Eingabe und Diagramm'!I10=\"\",\"\",'Eingabe und Diagramm'!I10)","v":""},null,156,{"$f":"IF('Eingabe und Diagramm'!L10=\"\",\"\",'Eingabe und Diagramm'!L10)","v":""},null,null,{"$f":"'Eingabe und Diagramm'!N17","v":"Upper spec. limit USL ="},{"$f":"OGW","v":{"v":12,"d":"12.00"}},{"$nulls":13},6,6,10.5,12,10,{"v":10.378785896192221,"d":"10.38"},{"v":10.631214103807773,"d":"10.63"},{"v":10.252571792384446,"d":"10.25"},{"v":10.757428207615549,"d":"10.76"},{"v":10.12635768857667,"d":"10.13"},{"v":10.883642311423325,"d":"10.88"},{"v":10.504999999999997,"d":"10.51"},null,0,0,{"$nulls":3},1,{"v":10.631214103807773,"d":"10.631"},3,6,{"v":9.747715377153344,"d":"9.748"},null,null,6,{"v":10.4,"d":"10.400"},6,{"v":0.20272713428452355,"d":"0.2027"},{"v":0.7972728657154764,"d":"0.7973"},{"v":0.22581833359455838,"d":"0.2258"},{"v":-33.92310687521563,"d":"-33.9231"},{"v":-0.7860841629171995,"d":"-0.7861"},null,"Summe S",{"$f":"SUM(Normalverteilung_S)","v":{"v":-693.6350177117093,"d":"-694"}}]
[null,7,{"$f":"IF('Eingabe und Diagramm'!C11=\"\",\"\",'Eingabe und Diagramm'!C11)","v":{"v":10.4,"d":"10.400"}},null,57,{"$f":"IF('Eingabe und Diagramm'!F11=\"\",\"\",'Eingabe und Diagramm'!F11)","v":""},null,107,{"$f":"IF('Eingabe und Diagramm'!I11=\"\",\"\",'Eingabe und Diagramm'!I11)","v":""},null,157,{"$f":"IF('Eingabe und Diagramm'!L11=\"\",\"\",'Eingabe und Diagramm'!L11)","v":""},{"$nulls":17},7,7,10.4,12,10,{"v":10.378785896192221,"d":"10.38"},{"v":10.631214103807773,"d":"10.63"},{"v":10.252571792384446,"d":"10.25"},{"v":10.757428207615549,"d":"10.76"},{"v":10.12635768857667,"d":"10.13"},{"v":10.883642311423325,"d":"10.88"},{"v":10.504999999999997,"d":"10.51"},null,0,0,{"$nulls":3},2,{"v":10.757428207615549,"d":"10.757"},3,6,{"v":9.747715377153344,"d":"9.748"},null,null,7,{"v":10.4,"d":"10.400"},7,{"v":0.20272713428452355,"d":"0.2027"},{"v":0.7972728657154764,"d":"0.7973"},{"v":0.22581833359455838,"d":"0.2258"},{"v":-40.090944488891196,"d":"-40.0909"},{"v":-0.6626171905120055,"d":"-0.6626"},null,"AD",{"$f":"-BM10/Anzahl-Anzahl","v":{"v":0.6782699119888207,"d":"0.6783"}}]
[null,8,{"$f":"IF('Eingabe und Diagramm'!C12=\"\",\"\",'Eingabe und Diagramm'!C12)","v":{"v":10.3,"d":"10.300"}},null,58,{"$f":"IF('Eingabe und Diagramm'!F12=\"\",\"\",'Eingabe und Diagramm'!F12)","v":""},null,108,{"$f":"IF('Eingabe und Diagramm'!I12=\"\",\"\",'Eingabe und Diagramm'!I12)","v":""},null,158,{"$f":"IF('Eingabe und Diagramm'!L12=\"\",\"\",'Eingabe und Diagramm'!L12)","v":""},null,null,{"$f":"'Eingabe und Diagramm'!N23","v":"Sample size n"},{"$f":"COUNT(C5:C204)","v":26},{"$nulls":13},8,8,10.3,12,10,{"v":10.378785896192221,"d":"10.38"},{"v":10.631214103807773,"d":"10.63"},{"v":10.252571792384446,"d":"10.25"},{"v":10.757428207615549,"d":"10.76"},{"v":10.12635768857667,"d":"10.13"},{"v":10.883642311423325,"d":"10.88"},{"v":10.504999999999997,"d":"10.51"},null,0,0,{"$nulls":3},4,{"v":11.009856415231098,"d":"11.010"},3,6,{"v":9.747715377153344,"d":"9.748"},null,null,8,{"v":10.4,"d":"10.400"},8,{"v":0.20272713428452355,"d":"0.2027"},{"v":0.7972728657154764,"d":"0.7973"},{"v":0.22581833359455838,"d":"0.2258"},{"v":-46.25878210256676,"d":"-46.2588"},{"v":-0.5485222826980979,"d":"-0.5485"},null,"AD*",{"$f":"BM11*(1+0.75/Anzahl+2.25/Anzahl^2)","v":{"v":0.7000929453997035,"d":"0.7001"}}]
[null,9,{"$f":"IF('Eingabe und Diagramm'!C13=\"\",\"\",'Eingabe und Diagramm'!C13)","v":{"v":10.5,"d":"10.500"}},null,59,{"$f":"IF('Eingabe und Diagramm'!F13=\"\",\"\",'Eingabe und Diagramm'!F13)","v":""},null,109,{"$f":"IF('Eingabe und Diagramm'!I13=\"\",\"\",'Eingabe und Diagramm'!I13)","v":""},null,159,{"$f":"IF('Eingabe und Diagramm'!L13=\"\",\"\",'Eingabe und Diagramm'!L13)","v":""},null,null,{"$f":"'Eingabe und Diagramm'!N24","v":"mid µ"},{"$f":"AVERAGE(C5:C204)","v":{"v":10.504999999999997,"d":"10.51"}},{"$nulls":13},9,9,10.5,12,10,{"v":10.378785896192221,"d":"10.38"},{"v":10.631214103807773,"d":"10.63"},{"v":10.252571792384446,"d":"10.25"},{"v":10.757428207615549,"d":"10.76"},{"v":10.12635768857667,"d":"10.13"},{"v":10.883642311423325,"d":"10.88"},{"v":10.504999999999997,"d":"10.51"},null,0,0,{"$nulls":3},5,{"v":11.136070519038874,"d":"11.136"},3,6,{"v":9.747715377153344,"d":"9.748"},null,null,9,{"v":10.4,"d":"10.400"},9,{"v":0.20272713428452355,"d":"0.2027"},{"v":0.7972728657154764,"d":"0.7973"},{"v":0.22581833359455838,"d":"0.2258"},{"v":-52.426619716242335,"d":"-52.4266"},{"v":-0.4411686474326192,"d":"-0.4412"}]
[null,10,{"$f":"IF('Eingabe und Diagramm'!C14=\"\",\"\",'Eingabe und Diagramm'!C14)","v":{"v":10.6,"d":"10.600"}},null,60,{"$f":"IF('Eingabe und Diagramm'!F14=\"\",\"\",'Eingabe und Diagramm'!F14)","v":""},null,110,{"$f":"IF('Eingabe und Diagramm'!I14=\"\",\"\",'Eingabe und Diagramm'!I14)","v":""},null,160,{"$f":"IF('Eingabe und Diagramm'!L14=\"\",\"\",'Eingabe und Diagramm'!L14)","v":""},null,null,{"$f":"'Eingabe und Diagramm'!N25","v":"Standart deviation s"},{"$f":"STDEV(C5:C204)","v":{"v":0.1262141038077755,"d":"0.13"}},{"$nulls":13},10,10,10.6,12,10,{"v":10.378785896192221,"d":"10.38"},{"v":10.631214103807773,"d":"10.63"},{"v":10.252571792384446,"d":"10.25"},{"v":10.757428207615549,"d":"10.76"},{"v":10.12635768857667,"d":"10.13"},{"v":10.883642311423325,"d":"10.88"},{"v":10.504999999999997,"d":"10.51"},null,0,0,{"$nulls":3},6,{"v":11.26228462284665,"d":"11.262"},3,6,{"v":9.747715377153344,"d":"9.748"},null,null,10,{"v":10.5,"d":"10.500"},10,{"v":0.4841999449670139,"d":"0.4842"},{"v":0.5158000550329861,"d":"0.5158"},{"v":0.5158000550329861,"d":"0.5158"},{"v":-26.358575112547918,"d":"-26.3586"},{"v":-0.33868308463365293,"d":"-0.3387"}]
[null,11,{"$f":"IF('Eingabe und Diagramm'!C15=\"\",\"\",'Eingabe und Diagramm'!C15)","v":{"v":10.4,"d":"10.400"}},null,61,{"$f":"IF('Eingabe und Diagramm'!F15=\"\",\"\",'Eingabe und Diagramm'!F15)","v":""},null,111,{"$f":"IF('Eingabe und Diagramm'!I15=\"\",\"\",'Eingabe und Diagramm'!I15)","v":""},null,161,{"$f":"IF('Eingabe und Diagramm'!L15=\"\",\"\",'Eingabe und Diagramm'!L15)","v":""},{"$nulls":17},11,11,10.4,12,10,{"v":10.378785896192221,"d":"10.38"},{"v":10.631214103807773,"d":"10.63"},{"v":10.252571792384446,"d":"10.25"},{"v":10.757428207615549,"d":"10.76"},{"v":10.12635768857667,"d":"10.13"},{"v":10.883642311423325,"d":"10.88"},{"v":10.504999999999997,"d":"10.51"},null,0,0,{"$nulls":3},-3,{"v":10.12635768857667,"d":"10.126"},3,6,{"v":9.747715377153344,"d":"9.748"},null,null,11,{"v":10.5,"d":"10.500"},11,{"v":0.4841999449670139,"d":"0.4842"},{"v":0.5158000550329861,"d":"0.5158"},{"v":0.5158000550329861,"d":"0.5158"},{"v":-29.13316196650033,"d":"-29.1332"},{"v":-0.23964424611500856,"d":"-0.2396"},null,"p1",{"$f":"IF(AND(BM12<13, BM12>=0.6),EXP(1.2937-5.709*BM12+0.0186*BM12^ 2),0)","v":{"v":0.06760899755744589,"d":"0.0676"}}]
[null,12,{"$f":"IF('Eingabe und Diagramm'!C16=\"\",\"\",'Eingabe und Diagramm'!C16)","v":{"v":10.5,"d":"10.500"}},null,62,{"$f":"IF('Eingabe und Diagramm'!F16=\"\",\"\",'Eingabe und Diagramm'!F16)","v":""},null,112,{"$f":"IF('Eingabe und Diagramm'!I16=\"\",\"\",'Eingabe und Diagramm'!I16)","v":""},null,162,{"$f":"IF('Eingabe und Diagramm'!L16=\"\",\"\",'Eingabe und Diagramm'!L16)","v":""},null,null,{"$f":"'Eingabe und Diagramm'!$N$33","v":"Capability indices"},{"$nulls":14},12,12,10.5,12,10,{"v":10.378785896192221,"d":"10.38"},{"v":10.631214103807773,"d":"10.63"},{"v":10.252571792384446,"d":"10.25"},{"v":10.757428207615549,"d":"10.76"},{"v":10.12635768857667,"d":"10.13"},{"v":10.883642311423325,"d":"10.88"},{"v":10.504999999999997,"d":"10.51"},null,0,0,{"$nulls":3},3,{"v":10.883642311423325,"d":"10.884"},3,6,{"v":9.747715377153344,"d":"9.748"},null,null,12,{"v":10.5,"d":"10.500"},12,{"v":0.4841999449670139,"d":"0.4842"},{"v":0.5158000550329861,"d":"0.5158"},{"v":0.5158000550329861,"d":"0.5158"},{"v":-31.907748820452746,"d":"-31.9077"},{"v":-0.14290699209399252,"d":"-0.1429"},null,"p2",{"$f":"IF(AND(BM12<0.6,BM12>=0.34),EXP(0.9177-4.279*BM12-1.38*BM12^2),0)","v":{"v":0,"d":"0.0000"}}]
[null,13,{"$f":"IF('Eingabe und Diagramm'!C17=\"\",\"\",'Eingabe und Diagramm'!C17)","v":{"v":10.7,"d":"10.700"}},null,63,{"$f":"IF('Eingabe und Diagramm'!F17=\"\",\"\",'Eingabe und Diagramm'!F17)","v":""},null,113,{"$f":"IF('Eingabe und Diagramm'!I17=\"\",\"\",'Eingabe und Diagramm'!I17)","v":""},null,163,{"$f":"IF('Eingabe und Diagramm'!L17=\"\",\"\",'Eingabe und Diagramm'!L17)","v":""},null,null,"Cpu",{"$f":"(P13-P9)/(3*P14)","v":{"v":1.3337125428526169,"d":"1.33"}},{"$nulls":13},13,13,10.7,12,10,{"v":10.378785896192221,"d":"10.38"},{"v":10.631214103807773,"d":"10.63"},{"v":10.252571792384446,"d":"10.25"},{"v":10.757428207615549,"d":"10.76"},{"v":10.12635768857667,"d":"10.13"},{"v":10.883642311423325,"d":"10.88"},{"v":10.504999999999997,"d":"10.51"},null,0,0,{"$nulls":10},13,{"v":10.5,"d":"10.500"},13,{"v":0.4841999449670139,"d":"0.4842"},{"v":0.5158000550329861,"d":"0.5158"},{"v":0.5158000550329861,"d":"0.5158"},{"v":-34.68233567440516,"d":"-34.6823"},{"v":-0.04749186712032374,"d":"-0.0475"},null,"p3",{"$f":"IF(AND(BM12<0.34,BM12>=0.2),1-EXP(-8.318+42.796*BM12-59.938*BM12^2),0)","v":{"v":0,"d":"0.0000"}}]
[null,14,{"$f":"IF('Eingabe und Diagramm'!C18=\"\",\"\",'Eingabe und Diagramm'!C18)","v":{"v":10.5,"d":"10.500"}},null,64,{"$f":"IF('Eingabe und Diagramm'!F18=\"\",\"\",'Eingabe und Diagramm'!F18)","v":""},null,114,{"$f":"IF('Eingabe und Diagramm'!I18=\"\",\"\",'Eingabe und Diagramm'!I18)","v":""},null,164,{"$f":"IF('Eingabe und Diagramm'!L18=\"\",\"\",'Eingabe und Diagramm'!L18)","v":""},null,null,"Cpo",{"$f":"(P10-P13)/(3*P14)","v":{"v":3.948317329831043,"d":"3.95"}},{"$nulls":13},14,14,10.5,12,10,{"v":10.378785896192221,"d":"10.38"},{"v":10.631214103807773,"d":"10.63"},{"v":10.252571792384446,"d":"10.25"},{"v":10.757428207615549,"d":"10.76"},{"v":10.12635768857667,"d":"10.13"},{"v":10.883642311423325,"d":"10.88"},{"v":10.504999999999997,"d":"10.51"},null,0,0,{"$nulls":3},"Mittelwert",{"$f":"Mittelwert","v":{"v":10.504999999999997,"d":"10.505"}},3,{"$nulls":4},14,{"v":10.5,"d":"10.500"},14,{"v":0.4841999449670139,"d":"0.4842"},{"v":0.5158000550329861,"d":"0.5158"},{"v":0.5158000550329861,"d":"0.5158"},{"v":-37.456922528357566,"d":"-37.4569"},{"v":0.04749186712032374,"d":"0.0475"},null,"p4",{"$f":"IF(BM12<0.2,1-EXP(-13.436+101.14*BM12-223.73*BM12^2),0)","v":{"v":0,"d":"0.0000"}}]
[null,15,{"$f":"IF('Eingabe und Diagramm'!C19=\"\",\"\",'Eingabe und Diagramm'!C19)","v":{"v":10.8,"d":"10.800"}},null,65,{"$f":"IF('Eingabe und Diagramm'!F19=\"\",\"\",'Eingabe und Diagramm'!F19)","v":""},null,115,{"$f":"IF('Eingabe und Diagramm'!I19=\"\",\"\",'Eingabe und Diagramm'!I19)","v":""},null,165,{"$f":"IF('Eingabe und Diagramm'!L19=\"\",\"\",'Eingabe und Diagramm'!L19)","v":""},null,null,"Cp",{"$f":"(P10-P9)/(6*P14)","v":{"v":2.64101493634183,"d":"2.64"}},{"$nulls":13},15,15,10.8,12,10,{"v":10.378785896192221,"d":"10.38"},{"v":10.631214103807773,"d":"10.63"},{"v":10.252571792384446,"d":"10.25"},{"v":10.757428207615549,"d":"10.76"},{"v":10.12635768857667,"d":"10.13"},{"v":10.883642311423325,"d":"10.88"},{"v":10.504999999999997,"d":"10.51"},null,0,0,{"$nulls":3},"OGW",{"$f":"OGW","v":{"v":12,"d":"12.000"}},3,{"$nulls":4},15,{"v":10.5,"d":"10.500"},15,{"v":0.4841999449670139,"d":"0.4842"},{"v":0.5158000550329861,"d":"0.5158"},{"v":0.5158000550329861,"d":"0.5158"},{"v":-40.23150938230998,"d":"-40.2315"},{"v":0.14290699209399238,"d":"0.1429"}]
[null,16,{"$f":"IF('Eingabe und Diagramm'!C20=\"\",\"\",'Eingabe und Diagramm'!C20)","v":{"v":10.6,"d":"10.600"}},null,66,{"$f":"IF('Eingabe und Diagramm'!F20=\"\",\"\",'Eingabe und Diagramm'!F20)","v":""},null,116,{"$f":"IF('Eingabe und Diagramm'!I20=\"\",\"\",'Eingabe und Diagramm'!I20)","v":""},null,166,{"$f":"IF('Eingabe und Diagramm'!L20=\"\",\"\",'Eingabe und Diagramm'!L20)","v":""},null,null,"Cpk",{"$f":"MIN(P18,P17)","v":{"v":1.3337125428526169,"d":"1.33"}},{"$nulls":13},16,16,10.6,12,10,{"v":10.378785896192221,"d":"10.38"},{"v":10.631214103807773,"d":"10.63"},{"v":10.252571792384446,"d":"10.25"},{"v":10.757428207615549,"d":"10.76"},{"v":10.12635768857667,"d":"10.13"},{"v":10.883642311423325,"d":"10.88"},{"v":10.504999999999997,"d":"10.51"},null,0,0,{"$nulls":3},"UGW",{"$f":"UGW","v":{"v":10,"d":"10.000"}},3,{"$nulls":4},16,{"v":10.5,"d":"10.500"},16,{"v":0.4841999449670139,"d":"0.4842"},{"v":0.5158000550329861,"d":"0.5158"},{"v":0.5158000550329861,"d":"0.5158"},{"v":-43.006096236262394,"d":"-43.0061"},{"v":0.23964424611500856,"d":"0.2396"},null,"p Wert",{"$f":"MAX(BM15:BM18)","v":{"v":0.06760899755744589,"d":"0.0676"}}]
[null,17,{"$f":"IF('Eingabe und Diagramm'!C21=\"\",\"\",'Eingabe und Diagramm'!C21)","v":{"v":10.6,"d":"10.600"}},null,67,{"$f":"IF('Eingabe und Diagramm'!F21=\"\",\"\",'Eingabe und Diagramm'!F21)","v":""},null,117,{"$f":"IF('Eingabe und Diagramm'!I21=\"\",\"\",'Eingabe und Diagramm'!I21)","v":""},null,167,{"$f":"IF('Eingabe und Diagramm'!L21=\"\",\"\",'Eingabe und Diagramm'!L21)","v":""},{"$nulls":17},17,17,10.6,12,10,{"v":10.378785896192221,"d":"10.38"},{"v":10.631214103807773,"d":"10.63"},{"v":10.252571792384446,"d":"10.25"},{"v":10.757428207615549,"d":"10.76"},{"v":10.12635768857667,"d":"10.13"},{"v":10.883642311423325,"d":"10.88"},{"v":10.504999999999997,"d":"10.51"},null,0,0,{"$nulls":3},"Sollwert",{"$f":"Sollwert","v":{"v":11,"d":"11.000"}},3,{"$nulls":4},17,{"v":10.5,"d":"10.500"},17,{"v":0.4841999449670139,"d":"0.4842"},{"v":0.5158000550329861,"d":"0.5158"},{"v":0.5158000550329861,"d":"0.5158"},{"v":-45.78068309021481,"d":"-45.7807"},{"v":0.33868308463365293,"d":"0.3387"}]
[null,18,{"$f":"IF('Eingabe und Diagramm'!C22=\"\",\"\",'Eingabe und Diagramm'!C22)","v":{"v":10.5,"d":"10.500"}},null,68,{"$f":"IF('Eingabe und Diagramm'!F22=\"\",\"\",'Eingabe und Diagramm'!F22)","v":""},null,118,{"$f":"IF('Eingabe und Diagramm'!I22=\"\",\"\",'Eingabe und Diagramm'!I22)","v":""},null,168,{"$f":"IF('Eingabe und Diagramm'!L22=\"\",\"\",'Eingabe und Diagramm'!L22)","v":""},null,null,{"$f":"'Eingabe und Diagramm'!N28","v":"Median z"},{"$f":"MEDIAN(xi)","v":{"v":10.5,"d":"10.50"}},{"$nulls":13},18,{"$f":"IF((Anzahl>AD22),AD22,Anzahl)","v":18},10.5,12,10,{"$f":"AI21","v":{"v":10.378785896192221,"d":"10.38"}},{"v":10.631214103807773,"d":"10.63"},{"v":10.252571792384446,"d":"10.25"},{"v":10.757428207615549,"d":"10.76"},{"v":10.12635768857667,"d":"10.13"},{"v":10.883642311423325,"d":"10.88"},{"v":10.504999999999997,"d":"10.51"},null,0,0,{"$nulls":10},18,{"v":10.6,"d":"10.600"},18,{"v":0.7741816664054416,"d":"0.7742"},{"v":0.22581833359455838,"d":"0.2258"},{"v":0.7972728657154764,"d":"0.7973"},{"v":-16.887745510422434,"d":"-16.8877"},{"v":0.44116864743261897,"d":"0.4412"}]
[null,19,{"$f":"IF('Eingabe und Diagramm'!C23=\"\",\"\",'Eingabe und Diagramm'!C23)","v":{"v":10.3,"d":"10.300"}},null,69,{"$f":"IF('Eingabe und Diagramm'!F23=\"\",\"\",'Eingabe und Diagramm'!F23)","v":""},null,119,{"$f":"IF('Eingabe und Diagramm'!I23=\"\",\"\",'Eingabe und Diagramm'!I23)","v":""},null,169,{"$f":"IF('Eingabe und Diagramm'!L23=\"\",\"\",'Eingabe und Diagramm'!L23)","v":""},null,null,{"$f":"'Eingabe und Diagramm'!N29","v":"Range R"},{"$f":"Maximum-Minimum","v":{"v":0.5,"d":"0.50"}},{"$nulls":13},19,19,10.3,12,10,{"v":10.378785896192221,"d":"10.38"},{"v":10.631214103807773,"d":"10.63"},{"v":10.252571792384446,"d":"10.25"},{"v":10.757428207615549,"d":"10.76"},{"v":10.12635768857667,"d":"10.13"},{"v":10.883642311423325,"d":"10.88"},{"v":10.504999999999997,"d":"10.51"},null,0,0,{"$nulls":10},19,{"v":10.6,"d":"10.600"},19,{"v":0.7741816664054416,"d":"0.7742"},{"v":0.22581833359455838,"d":"0.2258"},{"v":0.7972728657154764,"d":"0.7973"},{"v":-17.852759539589428,"d":"-17.8528"},{"v":0.5485222826980982,"d":"0.5485"}]
[null,20,{"$f":"IF('Eingabe und Diagramm'!C24=\"\",\"\",'Eingabe und Diagramm'!C24)","v":{"v":10.4,"d":"10.400"}},null,70,{"$f":"IF('Eingabe und Diagramm'!F24=\"\",\"\",'Eingabe und Diagramm'!F24)","v":""},null,120,{"$f":"IF('Eingabe und Diagramm'!I24=\"\",\"\",'Eingabe und Diagramm'!I24)","v":""},null,170,{"$f":"IF('Eingabe und Diagramm'!L24=\"\",\"\",'Eingabe und Diagramm'!L24)","v":""},null,null,{"$f":"'Eingabe und Diagramm'!N30","v":"Minimum"},{"$f":"MIN(xi)","v":{"v":10.3,"d":"10.30"}},{"$nulls":13},20,20,10.4,12,10,{"v":10.378785896192221,"d":"10.38"},{"v":10.631214103807773,"d":"10.63"},{"v":10.252571792384446,"d":"10.25"},{"v":10.757428207615549,"d":"10.76"},{"v":10.12635768857667,"d":"10.13"},{"v":10.883642311423325,"d":"10.88"},{"v":10.504999999999997,"d":"10.51"},null,0,0,{"$nulls":10},20,{"v":10.6,"d":"10.600"},20,{"v":0.7741816664054416,"d":"0.7742"},{"v":0.22581833359455838,"d":"0.2258"},{"v":0.7972728657154764,"d":"0.7973"},{"v":-18.817773568756426,"d":"-18.8178"},{"v":0.6626171905120055,"d":"0.6626"}]
[null,21,{"$f":"IF('Eingabe und Diagramm'!C25=\"\",\"\",'Eingabe und Diagramm'!C25)","v":{"v":10.4,"d":"10.400"}},null,71,{"$f":"IF('Eingabe und Diagramm'!F25=\"\",\"\",'Eingabe und Diagramm'!F25)","v":""},null,121,{"$f":"IF('Eingabe und Diagramm'!I25=\"\",\"\",'Eingabe und Diagramm'!I25)","v":""},null,171,{"$f":"IF('Eingabe und Diagramm'!L25=\"\",\"\",'Eingabe und Diagramm'!L25)","v":""},null,null,{"$f":"'Eingabe und Diagramm'!N31","v":"Maximum"},{"$f":"MAX(xi)","v":{"v":10.8,"d":"10.80"}},{"$nulls":13},21,21,10.4,12,10,{"v":10.378785896192221,"d":"10.38"},{"v":10.631214103807773,"d":"10.63"},{"v":10.252571792384446,"d":"10.25"},{"v":10.757428207615549,"d":"10.76"},{"v":10.12635768857667,"d":"10.13"},{"v":10.883642311423325,"d":"10.88"},{"v":10.504999999999997,"d":"10.51"},null,0,0,{"$nulls":10},21,{"v":10.6,"d":"10.600"},21,{"v":0.7741816664054416,"d":"0.7742"},{"v":0.22581833359455838,"d":"0.2258"},{"v":0.7972728657154764,"d":"0.7973"},{"v":-19.782787597923424,"d":"-19.7828"},{"v":0.7860841629171995,"d":"0.7861"}]
[null,22,{"$f":"IF('Eingabe und Diagramm'!C26=\"\",\"\",'Eingabe und Diagramm'!C26)","v":{"v":10.6,"d":"10.600"}},null,72,{"$f":"IF('Eingabe und Diagramm'!F26=\"\",\"\",'Eingabe und Diagramm'!F26)","v":""},null,122,{"$f":"IF('Eingabe und Diagramm'!I26=\"\",\"\",'Eingabe und Diagramm'!I26)","v":""},null,172,{"$f":"IF('Eingabe und Diagramm'!L26=\"\",\"\",'Eingabe und Diagramm'!L26)","v":""},{"$nulls":17},22,22,10.6,12,10,{"v":10.378785896192221,"d":"10.38"},{"v":10.631214103807773,"d":"10.63"},{"v":10.252571792384446,"d":"10.25"},{"v":10.757428207615549,"d":"10.76"},{"v":10.12635768857667,"d":"10.13"},{"v":10.883642311423325,"d":"10.88"},{"v":10.504999999999997,"d":"10.51"},null,0,0,{"$nulls":10},22,{"v":10.6,"d":"10.600"},22,{"v":0.7741816664054416,"d":"0.7742"},{"v":0.22581833359455838,"d":"0.2258"},{"v":0.7972728657154764,"d":"0.7973"},{"v":-20.747801627090418,"d":"-20.7478"},{"v":0.922897533606671,"d":"0.9229"}]
[null,23,{"$f":"IF('Eingabe und Diagramm'!C27=\"\",\"\",'Eingabe und Diagramm'!C27)","v":{"v":10.7,"d":"10.700"}},null,73,{"$f":"IF('Eingabe und Diagramm'!F27=\"\",\"\",'Eingabe und Diagramm'!F27)","v":""},null,123,{"$f":"IF('Eingabe und Diagramm'!I27=\"\",\"\",'Eingabe und Diagramm'!I27)","v":""},null,173,{"$f":"IF('Eingabe und Diagramm'!L27=\"\",\"\",'Eingabe und Diagramm'!L27)","v":""},{"$nulls":3},"Berechnete Leistung in DPPM",{"$nulls":13},23,23,10.7,12,10,{"v":10.378785896192221,"d":"10.38"},{"v":10.631214103807773,"d":"10.63"},{"v":10.252571792384446,"d":"10.25"},{"v":10.757428207615549,"d":"10.76"},{"v":10.12635768857667,"d":"10.13"},{"v":10.883642311423325,"d":"10.88"},{"v":10.504999999999997,"d":"10.51"},null,0,0,{"$nulls":10},23,{"v":10.6,"d":"10.600"},23,{"v":0.7741816664054416,"d":"0.7742"},{"v":0.22581833359455838,"d":"0.2258"},{"v":0.7972728657154764,"d":"0.7973"},{"v":-21.712815656257415,"d":"-21.7128"},{"v":1.0796388586671013,"d":"1.0796"}]
[null,24,{"$f":"IF('Eingabe und Diagramm'!C28=\"\",\"\",'Eingabe und Diagramm'!C28)","v":{"v":10.6,"d":"10.600"}},null,74,{"$f":"IF('Eingabe und Diagramm'!F28=\"\",\"\",'Eingabe und Diagramm'!F28)","v":""},null,124,{"$f":"IF('Eingabe und Diagramm'!I28=\"\",\"\",'Eingabe und Diagramm'!I28)","v":""},null,174,{"$f":"IF('Eingabe und Diagramm'!L28=\"\",\"\",'Eingabe und Diagramm'!L28)","v":""},null,null,"Überschreitungsanteil pUGW",{"$f":"NORMDIST(UGW,Mittelwert,Standardabweichung,1)*1000000","v":{"v":31.519338660088092,"d":"32"}},{"$nulls":13},24,24,10.6,12,10,{"v":10.378785896192221,"d":"10.38"},{"v":10.631214103807773,"d":"10.63"},{"v":10.252571792384446,"d":"10.25"},{"v":10.757428207615549,"d":"10.76"},{"v":10.12635768857667,"d":"10.13"},{"v":10.883642311423325,"d":"10.88"},{"v":10.504999999999997,"d":"10.51"},null,0,0,{"$nulls":10},24,{"v":10.7,"d":"10.700"},24,{"v":0.9388261109501561,"d":"0.9388"},{"v":0.06117388904984389,"d":"0.0612"},{"v":0.9172078703977516,"d":"0.9172"},{"v":-7.028669022677208,"d":"-7.0287"},{"v":1.2687073653921925,"d":"1.2687"}]
[null,25,{"$f":"IF('Eingabe und Diagramm'!C29=\"\",\"\",'Eingabe und Diagramm'!C29)","v":{"v":10.5,"d":"10.500"}},null,75,{"$f":"IF('Eingabe und Diagramm'!F29=\"\",\"\",'Eingabe und Diagramm'!F29)","v":""},null,125,{"$f":"IF('Eingabe und Diagramm'!I29=\"\",\"\",'Eingabe und Diagramm'!I29)","v":""},null,175,{"$f":"IF('Eingabe und Diagramm'!L29=\"\",\"\",'Eingabe und Diagramm'!L29)","v":""},null,null,"Überschreitungsanteil pOGW",{"$f":"(1-NORMDIST(OGW,Mittelwert,Standardabweichung,1))*1000000","v":0},null,{"$f":"((R33)+(R35))","v":{"v":3.1519338660088092E-5,"d":"0.0032%"}},{"$nulls":11},25,25,10.5,12,10,{"v":10.378785896192221,"d":"10.38"},{"v":10.631214103807773,"d":"10.63"},{"v":10.252571792384446,"d":"10.25"},{"v":10.757428207615549,"d":"10.76"},{"v":10.12635768857667,"d":"10.13"},{"v":10.883642311423325,"d":"10.88"},{"v":10.504999999999997,"d":"10.51"},null,0,0,{"$nulls":10},25,{"v":10.7,"d":"10.700"},25,{"v":0.9388261109501561,"d":"0.9388"},{"v":0.06117388904984389,"d":"0.0612"},{"v":0.9478360145744669,"d":"0.9478"},{"v":-5.718239944425353,"d":"-5.7182"},{"v":1.5188991668172824,"d":"1.5189"}]
[null,26,{"$f":"IF('Eingabe und Diagramm'!C30=\"\",\"\",'Eingabe und Diagramm'!C30)","v":{"v":10.33,"d":"10.330"}},null,76,{"$f":"IF('Eingabe und Diagramm'!F30=\"\",\"\",'Eingabe und Diagramm'!F30)","v":""},null,126,{"$f":"IF('Eingabe und Diagramm'!I30=\"\",\"\",'Eingabe und Diagramm'!I30)","v":""},null,176,{"$f":"IF('Eingabe und Diagramm'!L30=\"\",\"\",'Eingabe und Diagramm'!L30)","v":""},null,null,"Überschreitungsanteil p",{"$f":"BERPOGW+BERPUGW","v":{"v":31.519338660088092,"d":"32"}},{"$nulls":13},26,26,10.33,12,10,{"v":10.378785896192221,"d":"10.38"},{"v":10.631214103807773,"d":"10.63"},{"v":10.252571792384446,"d":"10.25"},{"v":10.757428207615549,"d":"10.76"},{"v":10.12635768857667,"d":"10.13"},{"v":10.883642311423325,"d":"10.88"},{"v":10.504999999999997,"d":"10.51"},null,0,0,{"$nulls":10},26,{"v":10.8,"d":"10.800"},26,{"v":0.9902881584447432,"d":"0.9903"},{"v":0.00971184155525684,"d":"0.0097"},{"v":0.9478360145744669,"d":"0.9478"},{"v":-3.229987139488031,"d":"-3.2300"},{"v":1.9346740800992503,"d":"1.9347"}]
[null,27,{"$f":"IF('Eingabe und Diagramm'!C31=\"\",\"\",'Eingabe und Diagramm'!C31)","v":""},null,77,{"$f":"IF('Eingabe und Diagramm'!F31=\"\",\"\",'Eingabe und Diagramm'!F31)","v":""},null,127,{"$f":"IF('Eingabe und Diagramm'!I31=\"\",\"\",'Eingabe und Diagramm'!I31)","v":""},null,177,{"$f":"IF('Eingabe und Diagramm'!L31=\"\",\"\",'Eingabe und Diagramm'!L31)","v":""},{"$nulls":17},27,26,10.33,12,10,{"v":10.378785896192221,"d":"10.38"},{"v":10.631214103807773,"d":"10.63"},{"v":10.252571792384446,"d":"10.25"},{"v":10.757428207615549,"d":"10.76"},{"v":10.12635768857667,"d":"10.13"},{"v":10.883642311423325,"d":"10.88"},{"v":10.504999999999997,"d":"10.51"},null,0,0,{"$nulls":10},27,{"$error":"#N/A"},"","","","","",{"$error":"#N/A"}]
[null,28,{"$f":"IF('Eingabe und Diagramm'!C32=\"\",\"\",'Eingabe und Diagramm'!C32)","v":""},null,78,{"$f":"IF('Eingabe und Diagramm'!F32=\"\",\"\",'Eingabe und Diagramm'!F32)","v":""},null,128,{"$f":"IF('Eingabe und Diagramm'!I32=\"\",\"\",'Eingabe und Diagramm'!I32)","v":""},null,178,{"$f":"IF('Eingabe und Diagramm'!L32=\"\",\"\",'Eingabe und Diagramm'!L32)","v":""},{"$nulls":3},"Beobachtete Leistung in DPPM",{"$nulls":13},28,26,10.33,12,10,{"v":10.378785896192221,"d":"10.38"},{"v":10.631214103807773,"d":"10.63"},{"v":10.252571792384446,"d":"10.25"},{"v":10.757428207615549,"d":"10.76"},{"v":10.12635768857667,"d":"10.13"},{"v":10.883642311423325,"d":"10.88"},{"v":10.504999999999997,"d":"10.51"},null,0,0,{"$nulls":10},28,{"$error":"#N/A"},"","","","","",{"$error":"#N/A"}]
[null,29,{"$f":"IF('Eingabe und Diagramm'!C33=\"\",\"\",'Eingabe und Diagramm'!C33)","v":""},null,79,{"$f":"IF('Eingabe und Diagramm'!F33=\"\",\"\",'Eingabe und Diagramm'!F33)","v":""},null,129,{"$f":"IF('Eingabe und Diagramm'!I33=\"\",\"\",'Eingabe und Diagramm'!I33)","v":""},null,179,{"$f":"IF('Eingabe und Diagramm'!L33=\"\",\"\",'Eingabe und Diagramm'!L33)","v":""},null,null,"Überschreitungsanteil pUGW",{"$f":"AQ205/P12*1000000","v":0},null,{"$f":"_xlfn.NORM.DIST(P9,Mittelwert,Standardabweichung,1)","v":{"v":3.1519338660088092E-5,"d":"0.0032%"}},{"$nulls":11},29,26,10.33,12,10,{"v":10.378785896192221,"d":"10.38"},{"v":10.631214103807773,"d":"10.63"},{"v":10.252571792384446,"d":"10.25"},{"v":10.757428207615549,"d":"10.76"},{"v":10.12635768857667,"d":"10.13"},{"v":10.883642311423325,"d":"10.88"},{"v":10.504999999999997,"d":"10.51"},null,0,0,{"$nulls":10},29,{"$error":"#N/A"},"","","","","",{"$error":"#N/A"}]
[null,30,{"$f":"IF('Eingabe und Diagramm'!C34=\"\",\"\",'Eingabe und Diagramm'!C34)","v":""},null,80,{"$f":"IF('Eingabe und Diagramm'!F34=\"\",\"\",'Eingabe und Diagramm'!F34)","v":""},null,130,{"$f":"IF('Eingabe und Diagramm'!I34=\"\",\"\",'Eingabe und Diagramm'!I34)","v":""},null,180,{"$f":"IF('Eingabe und Diagramm'!L34=\"\",\"\",'Eingabe und Diagramm'!L34)","v":""},null,null,"Überschreitungsanteil pOGW",{"$f":"AR205/P12*1000000","v":0},{"$nulls":13},30,26,10.33,12,10,{"v":10.378785896192221,"d":"10.38"},{"v":10.631214103807773,"d":"10.63"},{"v":10.252571792384446,"d":"10.25"},{"v":10.757428207615549,"d":"10.76"},{"v":10.12635768857667,"d":"10.13"},{"v":10.883642311423325,"d":"10.88"},{"v":10.504999999999997,"d":"10.51"},null,0,0,{"$nulls":10},30,{"$error":"#N/A"},"","","","","",{"$error":"#N/A"}]
[null,31,{"$f":"IF('Eingabe und Diagramm'!C35=\"\",\"\",'Eingabe und Diagramm'!C35)","v":""},null,81,{"$f":"IF('Eingabe und Diagramm'!F35=\"\",\"\",'Eingabe und Diagramm'!F35)","v":""},null,131,{"$f":"IF('Eingabe und Diagramm'!I35=\"\",\"\",'Eingabe und Diagramm'!I35)","v":""},null,181,{"$f":"IF('Eingabe und Diagramm'!L35=\"\",\"\",'Eingabe und Diagramm'!L35)","v":""},null,null,"Überschreitungsanteil p",{"$f":"P34+P33","v":0},null,{"$f":"(1-(_xlfn.NORM.DIST(P10,Mittelwert,Standardabweichung,1)))","v":{"v":0,"d":"0.0000%"}},{"$nulls":11},31,26,10.33,12,10,{"v":10.378785896192221,"d":"10.38"},{"v":10.631214103807773,"d":"10.63"},{"v":10.252571792384446,"d":"10.25"},{"v":10.757428207615549,"d":"10.76"},{"v":10.12635768857667,"d":"10.13"},{"v":10.883642311423325,"d":"10.88"},{"v":10.504999999999997,"d":"10.51"},null,0,0,{"$nulls":10},31,{"$error":"#N/A"},"","","","","",{"$error":"#N/A"}]
[null,32,{"$f":"IF('Eingabe und Diagramm'!C36=\"\",\"\",'Eingabe und Diagramm'!C36)","v":""},null,82,{"$f":"IF('Eingabe und Diagramm'!F36=\"\",\"\",'Eingabe und Diagramm'!F36)","v":""},null,132,{"$f":"IF('Eingabe und Diagramm'!I36=\"\",\"\",'Eingabe und Diagramm'!I36)","v":""},null,182,{"$f":"IF('Eingabe und Diagramm'!L36=\"\",\"\",'Eingabe und Diagramm'!L36)","v":""},{"$nulls":17},32,26,10.33,12,10,{"v":10.378785896192221,"d":"10.38"},{"v":10.631214103807773,"d":"10.63"},{"v":10.252571792384446,"d":"10.25"},{"v":10.757428207615549,"d":"10.76"},{"v":10.12635768857667,"d":"10.13"},{"v":10.883642311423325,"d":"10.88"},{"v":10.504999999999997,"d":"10.51"},null,0,0,{"$nulls":10},32,{"$error":"#N/A"},"","","","","",{"$error":"#N/A"}]
[null,33,{"$f":"IF('Eingabe und Diagramm'!C37=\"\",\"\",'Eingabe und Diagramm'!C37)","v":""},null,83,{"$f":"IF('Eingabe und Diagramm'!F37=\"\",\"\",'Eingabe und Diagramm'!F37)","v":""},null,133,{"$f":"IF('Eingabe und Diagramm'!I37=\"\",\"\",'Eingabe und Diagramm'!I37)","v":""},null,183,{"$f":"IF('Eingabe und Diagramm'!L37=\"\",\"\",'Eingabe und Diagramm'!L37)","v":""},null,null,"Anteil n.i.O. %",{"$f":"(1-(_xlfn.NORM.DIST(P10,Mittelwert,Standardabweichung,1)))+(_xlfn.NORM.DIST(P9,Mittelwert,Standardabweichung,1))","v":{"v":3.1519338660088092E-5,"d":"0.0032%"}},{"$nulls":13},33,{"$f":"IF((Anzahl>AD37),AD37,Anzahl)","v":26},10.33,{"$f":"IF(C37<>\"\",OGW,AG36)","v":12},{"$f":"IF(C37<>\"\",UGW,AH36)","v":10},{"v":10.378785896192221,"d":"10.38"},{"v":10.631214103807773,"d":"10.63"},{"v":10.252571792384446,"d":"10.25"},{"v":10.757428207615549,"d":"10.76"},{"v":10.12635768857667,"d":"10.13"},{"v":10.883642311423325,"d":"10.88"},{"v":10.504999999999997,"d":"10.51"},null,{"$f":"IF(AND(C37<>\"\",C37<UGW),1,0)","v":0},{"$f":"IF(AND(C37<>\"\",C37>OGW),1,0)","v":0},{"$nulls":10},33,{"$f":"IF(C37=\"\",NA(),SMALL(xi,BE37))","v":{"$error":"#N/A"}},"",{"$f":"IF(C37=\"\",\"\",NORMSDIST((BD37-Mittelwert)/Standardabweichung))","v":""},{"$f":"IF(C37=\"\",\"\",1-BF37)","v":""},{"$f":"IF(C37=\"\",\"\",SMALL(BG,BE37))","v":""},{"$f":"IF(C37=\"\",\"\",(2*BE37-1)*(LN(BH37)+LN(BF37)))","v":""},{"$f":"IF(C37=\"\",NA(),NORMSINV((BE37-0.3)/(Anzahl+0.4)))","v":{"$error":"#N/A"}}]
[null,34,{"$f":"IF('Eingabe und Diagramm'!C38=\"\",\"\",'Eingabe und Diagramm'!C38)","v":""},null,84,{"$f":"IF('Eingabe und Diagramm'!F38=\"\",\"\",'Eingabe und Diagramm'!F38)","v":""},null,134,{"$f":"IF('Eingabe und Diagramm'!I38=\"\",\"\",'Eingabe und Diagramm'!I38)","v":""},null,184,{"$f":"IF('Eingabe und Diagramm'!L38=\"\",\"\",'Eingabe und Diagramm'!L38)","v":""},null,null,"Sigma Level",{"$f":"_xlfn.NORM.INV(1-(1-_xlfn.NORM.DIST(P10,Mittelwert,Standardabweichung,1))-_xlfn.NORM.DIST(P9,Mittelwert,Standardabweichung,1),0,1)","v":{"v":4.001137628557911,"d":"4.00"}},{"$nulls":13},34,26,10.33,12,10,{"$f":"AI37","v":{"v":10.378785896192221,"d":"10.38"}},{"v":10.631214103807773,"d":"10.63"},{"v":10.252571792384446,"d":"10.25"},{"v":10.757428207615549,"d":"10.76"},{"v":10.12635768857667,"d":"10.13"},{"v":10.883642311423325,"d":"10.88"},{"v":10.504999999999997,"d":"10.51"},null,0,0,{"$nulls":10},34,{"$error":"#N/A"},{"$f":"IF(C38=\"\",\"\",1+BE37)","v":""},"","","","",{"$error":"#N/A"}]
[null,35,{"$f":"IF('Eingabe und Diagramm'!C39=\"\",\"\",'Eingabe und Diagramm'!C39)","v":""},null,85,{"$f":"IF('Eingabe und Diagramm'!F39=\"\",\"\",'Eingabe und Diagramm'!F39)","v":""},null,135,{"$f":"IF('Eingabe und Diagramm'!I39=\"\",\"\",'Eingabe und Diagramm'!I39)","v":""},null,185,{"$f":"IF('Eingabe und Diagramm'!L39=\"\",\"\",'Eingabe und Diagramm'!L39)","v":""},{"$nulls":17},35,{"$f":"IF((Anzahl>AD39),AD39,Anzahl)","v":26},10.33,12,10,{"v":10.378785896192221,"d":"10.38"},{"v":10.631214103807773,"d":"10.63"},{"v":10.252571792384446,"d":"10.25"},{"v":10.757428207615549,"d":"10.76"},{"v":10.12635768857667,"d":"10.13"},{"v":10.883642311423325,"d":"10.88"},{"v":10.504999999999997,"d":"10.51"},null,0,0,{"$nulls":10},35,{"$error":"#N/A"},"","","","","",{"$error":"#N/A"}]
[null,36,{"$f":"IF('Eingabe und Diagramm'!C40=\"\",\"\",'Eingabe und Diagramm'!C40)","v":""},null,86,{"$f":"IF('Eingabe und Diagramm'!F40=\"\",\"\",'Eingabe und Diagramm'!F40)","v":""},null,136,{"$f":"IF('Eingabe und Diagramm'!I40=\"\",\"\",'Eingabe und Diagramm'!I40)","v":""},null,186,{"$f":"IF('Eingabe und Diagramm'!L40=\"\",\"\",'Eingabe und Diagramm'!L40)","v":""},{"$nulls":17},36,26,10.33,12,10,{"v":10.378785896192221,"d":"10.38"},{"v":10.631214103807773,"d":"10.63"},{"v":10.252571792384446,"d":"10.25"},{"v":10.757428207615549,"d":"10.76"},{"v":10.12635768857667,"d":"10.13"},{"v":10.883642311423325,"d":"10.88"},{"v":10.504999999999997,"d":"10.51"},null,0,0,{"$nulls":10},36,{"$error":"#N/A"},"","","","","",{"$error":"#N/A"}]
[null,37,{"$f":"IF('Eingabe und Diagramm'!C41=\"\",\"\",'Eingabe und Diagramm'!C41)","v":""},null,87,{"$f":"IF('Eingabe und Diagramm'!F41=\"\",\"\",'Eingabe und Diagramm'!F41)","v":""},null,137,{"$f":"IF('Eingabe und Diagramm'!I41=\"\",\"\",'Eingabe und Diagramm'!I41)","v":""},null,187,{"$f":"IF('Eingabe und Diagramm'!L41=\"\",\"\",'Eingabe und Diagramm'!L41)","v":""},{"$nulls":17},37,26,10.33,12,10,{"v":10.378785896192221,"d":"10.38"},{"v":10.631214103807773,"d":"10.63"},{"v":10.252571792384446,"d":"10.25"},{"v":10.757428207615549,"d":"10.76"},{"v":10.12635768857667,"d":"10.13"},{"v":10.883642311423325,"d":"10.88"},{"v":10.504999999999997,"d":"10.51"},null,0,0,{"$nulls":10},37,{"$error":"#N/A"},"","","","","",{"$error":"#N/A"}]
[null,38,{"$f":"IF('Eingabe und Diagramm'!C42=\"\",\"\",'Eingabe und Diagramm'!C42)","v":""},null,88,{"$f":"IF('Eingabe und Diagramm'!F42=\"\",\"\",'Eingabe und Diagramm'!F42)","v":""},null,138,{"$f":"IF('Eingabe und Diagramm'!I42=\"\",\"\",'Eingabe und Diagramm'!I42)","v":""},null,188,{"$f":"IF('Eingabe und Diagramm'!L42=\"\",\"\",'Eingabe und Diagramm'!L42)","v":""},{"$nulls":17},38,26,10.33,12,10,{"v":10.378785896192221,"d":"10.38"},{"v":10.631214103807773,"d":"10.63"},{"v":10.252571792384446,"d":"10.25"},{"v":10.757428207615549,"d":"10.76"},{"v":10.12635768857667,"d":"10.13"},{"v":10.883642311423325,"d":"10.88"},{"v":10.504999999999997,"d":"10.51"},null,0,0,{"$nulls":10},38,{"$error":"#N/A"},"","","","","",{"$error":"#N/A"}]
[null,39,{"$f":"IF('Eingabe und Diagramm'!C43=\"\",\"\",'Eingabe und Diagramm'!C43)","v":""},null,89,{"$f":"IF('Eingabe und Diagramm'!F43=\"\",\"\",'Eingabe und Diagramm'!F43)","v":""},null,139,{"$f":"IF('Eingabe und Diagramm'!I43=\"\",\"\",'Eingabe und Diagramm'!I43)","v":""},null,189,{"$f":"IF('Eingabe und Diagramm'!L43=\"\",\"\",'Eingabe und Diagramm'!L43)","v":""},{"$nulls":17},39,26,10.33,12,10,{"v":10.378785896192221,"d":"10.38"},{"v":10.631214103807773,"d":"10.63"},{"v":10.252571792384446,"d":"10.25"},{"v":10.757428207615549,"d":"10.76"},{"v":10.12635768857667,"d":"10.13"},{"v":10.883642311423325,"d":"10.88"},{"v":10.504999999999997,"d":"10.51"},null,0,0,{"$nulls":10},39,{"$error":"#N/A"},"","","","","",{"$error":"#N/A"}]
[null,40,{"$f":"IF('Eingabe und Diagramm'!C44=\"\",\"\",'Eingabe und Diagramm'!C44)","v":""},null,90,{"$f":"IF('Eingabe und Diagramm'!F44=\"\",\"\",'Eingabe und Diagramm'!F44)","v":""},null,140,{"$f":"IF('Eingabe und Diagramm'!I44=\"\",\"\",'Eingabe und Diagramm'!I44)","v":""},null,190,{"$f":"IF('Eingabe und Diagramm'!L44=\"\",\"\",'Eingabe und Diagramm'!L44)","v":""},{"$nulls":17},40,26,10.33,12,10,{"v":10.378785896192221,"d":"10.38"},{"v":10.631214103807773,"d":"10.63"},{"v":10.252571792384446,"d":"10.25"},{"v":10.757428207615549,"d":"10.76"},{"v":10.12635768857667,"d":"10.13"},{"v":10.883642311423325,"d":"10.88"},{"v":10.504999999999997,"d":"10.51"},null,0,0,{"$nulls":10},40,{"$error":"#N/A"},"","","","","",{"$error":"#N/A"}]
[null,41,{"$f":"IF('Eingabe und Diagramm'!C45=\"\",\"\",'Eingabe und Diagramm'!C45)","v":""},null,91,{"$f":"IF('Eingabe und Diagramm'!F45=\"\",\"\",'Eingabe und Diagramm'!F45)","v":""},null,141,{"$f":"IF('Eingabe und Diagramm'!I45=\"\",\"\",'Eingabe und Diagramm'!I45)","v":""},null,191,{"$f":"IF('Eingabe und Diagramm'!L45=\"\",\"\",'Eingabe und Diagramm'!L45)","v":""},{"$nulls":17},41,26,10.33,12,10,{"v":10.378785896192221,"d":"10.38"},{"v":10.631214103807773,"d":"10.63"},{"v":10.252571792384446,"d":"10.25"},{"v":10.757428207615549,"d":"10.76"},{"v":10.12635768857667,"d":"10.13"},{"v":10.883642311423325,"d":"10.88"},{"v":10.504999999999997,"d":"10.51"},null,0,0,{"$nulls":10},41,{"$error":"#N/A"},"","","","","",{"$error":"#N/A"}]
[null,42,{"$f":"IF('Eingabe und Diagramm'!C46=\"\",\"\",'Eingabe und Diagramm'!C46)","v":""},null,92,{"$f":"IF('Eingabe und Diagramm'!F46=\"\",\"\",'Eingabe und Diagramm'!F46)","v":""},null,142,{"$f":"IF('Eingabe und Diagramm'!I46=\"\",\"\",'Eingabe und Diagramm'!I46)","v":""},null,192,{"$f":"IF('Eingabe und Diagramm'!L46=\"\",\"\",'Eingabe und Diagramm'!L46)","v":""},{"$nulls":17},42,26,10.33,12,10,{"v":10.378785896192221,"d":"10.38"},{"v":10.631214103807773,"d":"10.63"},{"v":10.252571792384446,"d":"10.25"},{"v":10.757428207615549,"d":"10.76"},{"v":10.12635768857667,"d":"10.13"},{"v":10.883642311423325,"d":"10.88"},{"v":10.504999999999997,"d":"10.51"},null,0,0,{"$nulls":10},42,{"$error":"#N/A"},"","","","","",{"$error":"#N/A"}]
[null,43,{"$f":"IF('Eingabe und Diagramm'!C47=\"\",\"\",'Eingabe und Diagramm'!C47)","v":""},null,93,{"$f":"IF('Eingabe und Diagramm'!F47=\"\",\"\",'Eingabe und Diagramm'!F47)","v":""},null,143,{"$f":"IF('Eingabe und Diagramm'!I47=\"\",\"\",'Eingabe und Diagramm'!I47)","v":""},null,193,{"$f":"IF('Eingabe und Diagramm'!L47=\"\",\"\",'Eingabe und Diagramm'!L47)","v":""},{"$nulls":17},43,26,10.33,12,10,{"v":10.378785896192221,"d":"10.38"},{"v":10.631214103807773,"d":"10.63"},{"v":10.252571792384446,"d":"10.25"},{"v":10.757428207615549,"d":"10.76"},{"v":10.12635768857667,"d":"10.13"},{"v":10.883642311423325,"d":"10.88"},{"v":10.504999999999997,"d":"10.51"},null,0,0,{"$nulls":10},43,{"$error":"#N/A"},"","","","","",{"$error":"#N/A"}]
[null,44,{"$f":"IF('Eingabe und Diagramm'!C48=\"\",\"\",'Eingabe und Diagramm'!C48)","v":""},null,94,{"$f":"IF('Eingabe und Diagramm'!F48=\"\",\"\",'Eingabe und Diagramm'!F48)","v":""},null,144,{"$f":"IF('Eingabe und Diagramm'!I48=\"\",\"\",'Eingabe und Diagramm'!I48)","v":""},null,194,{"$f":"IF('Eingabe und Diagramm'!L48=\"\",\"\",'Eingabe und Diagramm'!L48)","v":""},{"$nulls":17},44,26,10.33,12,10,{"v":10.378785896192221,"d":"10.38"},{"v":10.631214103807773,"d":"10.63"},{"v":10.252571792384446,"d":"10.25"},{"v":10.757428207615549,"d":"10.76"},{"v":10.12635768857667,"d":"10.13"},{"v":10.883642311423325,"d":"10.88"},{"v":10.504999999999997,"d":"10.51"},null,0,0,{"$nulls":10},44,{"$error":"#N/A"},"","","","","",{"$error":"#N/A"}]
[null,45,{"$f":"IF('Eingabe und Diagramm'!C49=\"\",\"\",'Eingabe und Diagramm'!C49)","v":""},null,95,{"$f":"IF('Eingabe und Diagramm'!F49=\"\",\"\",'Eingabe und Diagramm'!F49)","v":""},null,145,{"$f":"IF('Eingabe und Diagramm'!I49=\"\",\"\",'Eingabe und Diagramm'!I49)","v":""},null,195,{"$f":"IF('Eingabe und Diagramm'!L49=\"\",\"\",'Eingabe und Diagramm'!L49)","v":""},{"$nulls":17},45,26,10.33,12,10,{"v":10.378785896192221,"d":"10.38"},{"v":10.631214103807773,"d":"10.63"},{"v":10.252571792384446,"d":"10.25"},{"v":10.757428207615549,"d":"10.76"},{"v":10.12635768857667,"d":"10.13"},{"v":10.883642311423325,"d":"10.88"},{"v":10.504999999999997,"d":"10.51"},null,0,0,{"$nulls":10},45,{"$error":"#N/A"},"","","","","",{"$error":"#N/A"}]
[null,46,{"$f":"IF('Eingabe und Diagramm'!C50=\"\",\"\",'Eingabe und Diagramm'!C50)","v":""},null,96,{"$f":"IF('Eingabe und Diagramm'!F50=\"\",\"\",'Eingabe und Diagramm'!F50)","v":""},null,146,{"$f":"IF('Eingabe und Diagramm'!I50=\"\",\"\",'Eingabe und Diagramm'!I50)","v":""},null,196,{"$f":"IF('Eingabe und Diagramm'!L50=\"\",\"\",'Eingabe und Diagramm'!L50)","v":""},{"$nulls":17},46,26,10.33,12,10,{"v":10.378785896192221,"d":"10.38"},{"v":10.631214103807773,"d":"10.63"},{"v":10.252571792384446,"d":"10.25"},{"v":10.757428207615549,"d":"10.76"},{"v":10.12635768857667,"d":"10.13"},{"v":10.883642311423325,"d":"10.88"},{"v":10.504999999999997,"d":"10.51"},null,0,0,{"$nulls":10},46,{"$error":"#N/A"},"","","","","",{"$error":"#N/A"}]
[null,47,{"$f":"IF('Eingabe und Diagramm'!C51=\"\",\"\",'Eingabe und Diagramm'!C51)","v":""},null,97,{"$f":"IF('Eingabe und Diagramm'!F51=\"\",\"\",'Eingabe und Diagramm'!F51)","v":""},null,147,{"$f":"IF('Eingabe und Diagramm'!I51=\"\",\"\",'Eingabe und Diagramm'!I51)","v":""},null,197,{"$f":"IF('Eingabe und Diagramm'!L51=\"\",\"\",'Eingabe und Diagramm'!L51)","v":""},{"$nulls":17},47,26,10.33,12,10,{"v":10.378785896192221,"d":"10.38"},{"v":10.631214103807773,"d":"10.63"},{"v":10.252571792384446,"d":"10.25"},{"v":10.757428207615549,"d":"10.76"},{"v":10.12635768857667,"d":"10.13"},{"v":10.883642311423325,"d":"10.88"},{"v":10.504999999999997,"d":"10.51"},null,0,0,{"$nulls":10},47,{"$error":"#N/A"},"","","","","",{"$error":"#N/A"}]
[null,48,{"$f":"IF('Eingabe und Diagramm'!C52=\"\",\"\",'Eingabe und Diagramm'!C52)","v":""},null,98,{"$f":"IF('Eingabe und Diagramm'!F52=\"\",\"\",'Eingabe und Diagramm'!F52)","v":""},null,148,{"$f":"IF('Eingabe und Diagramm'!I52=\"\",\"\",'Eingabe und Diagramm'!I52)","v":""},null,198,{"$f":"IF('Eingabe und Diagramm'!L52=\"\",\"\",'Eingabe und Diagramm'!L52)","v":""},{"$nulls":17},48,26,10.33,12,10,{"v":10.378785896192221,"d":"10.38"},{"v":10.631214103807773,"d":"10.63"},{"v":10.252571792384446,"d":"10.25"},{"v":10.757428207615549,"d":"10.76"},{"v":10.12635768857667,"d":"10.13"},{"v":10.883642311423325,"d":"10.88"},{"v":10.504999999999997,"d":"10.51"},null,0,0,{"$nulls":10},48,{"$error":"#N/A"},"","","","","",{"$error":"#N/A"}]
[null,49,{"$f":"IF('Eingabe und Diagramm'!C53=\"\",\"\",'Eingabe und Diagramm'!C53)","v":""},null,99,{"$f":"IF('Eingabe und Diagramm'!F53=\"\",\"\",'Eingabe und Diagramm'!F53)","v":""},null,149,{"$f":"IF('Eingabe und Diagramm'!I53=\"\",\"\",'Eingabe und Diagramm'!I53)","v":""},null,199,{"$f":"IF('Eingabe und Diagramm'!L53=\"\",\"\",'Eingabe und Diagramm'!L53)","v":""},{"$nulls":17},49,26,10.33,12,10,{"v":10.378785896192221,"d":"10.38"},{"v":10.631214103807773,"d":"10.63"},{"v":10.252571792384446,"d":"10.25"},{"v":10.757428207615549,"d":"10.76"},{"v":10.12635768857667,"d":"10.13"},{"v":10.883642311423325,"d":"10.88"},{"v":10.504999999999997,"d":"10.51"},null,0,0,{"$nulls":10},49,{"$error":"#N/A"},"","","","","",{"$error":"#N/A"}]
[null,50,{"$f":"IF('Eingabe und Diagramm'!C54=\"\",\"\",'Eingabe und Diagramm'!C54)","v":""},null,100,{"$f":"IF('Eingabe und Diagramm'!F54=\"\",\"\",'Eingabe und Diagramm'!F54)","v":""},null,150,{"$f":"IF('Eingabe und Diagramm'!I54=\"\",\"\",'Eingabe und Diagramm'!I54)","v":""},null,200,{"$f":"IF('Eingabe und Diagramm'!L54=\"\",\"\",'Eingabe und Diagramm'!L54)","v":""},{"$nulls":17},50,26,10.33,12,10,{"$f":"AI53","v":{"v":10.378785896192221,"d":"10.38"}},{"v":10.631214103807773,"d":"10.63"},{"v":10.252571792384446,"d":"10.25"},{"v":10.757428207615549,"d":"10.76"},{"v":10.12635768857667,"d":"10.13"},{"v":10.883642311423325,"d":"10.88"},{"v":10.504999999999997,"d":"10.51"},null,0,0,{"$nulls":10},50,{"$error":"#N/A"},"","","","","",{"$error":"#N/A"}]
[null,51,{"$f":"IF(F5=\"\",\"\",F5)","v":""},{"$nulls":26},51,26,10.33,12,10,{"v":10.378785896192221,"d":"10.38"},{"v":10.631214103807773,"d":"10.63"},{"v":10.252571792384446,"d":"10.25"},{"v":10.757428207615549,"d":"10.76"},{"v":10.12635768857667,"d":"10.13"},{"v":10.883642311423325,"d":"10.88"},{"v":10.504999999999997,"d":"10.51"},null,0,0,{"$nulls":10},51,{"$error":"#N/A"},"","","","","",{"$error":"#N/A"}]
[null,52,{"$f":"IF(F6=\"\",\"\",F6)","v":""},{"$nulls":26},52,26,10.33,12,10,{"v":10.378785896192221,"d":"10.38"},{"v":10.631214103807773,"d":"10.63"},{"v":10.252571792384446,"d":"10.25"},{"v":10.757428207615549,"d":"10.76"},{"v":10.12635768857667,"d":"10.13"},{"v":10.883642311423325,"d":"10.88"},{"v":10.504999999999997,"d":"10.51"},null,0,0,{"$nulls":10},52,{"$error":"#N/A"},"","","","","",{"$error":"#N/A"}]
[null,53,{"$f":"IF(F7=\"\",\"\",F7)","v":""},{"$nulls":26},53,26,10.33,12,10,{"v":10.378785896192221,"d":"10.38"},{"v":10.631214103807773,"d":"10.63"},{"v":10.252571792384446,"d":"10.25"},{"v":10.757428207615549,"d":"10.76"},{"v":10.12635768857667,"d":"10.13"},{"v":10.883642311423325,"d":"10.88"},{"v":10.504999999999997,"d":"10.51"},null,0,0,{"$nulls":10},53,{"$error":"#N/A"},"","","","","",{"$error":"#N/A"}]
[null,54,{"$f":"IF(F8=\"\",\"\",F8)","v":""},{"$nulls":12},"Histogramm Messwerte",{"$nulls":13},54,26,10.33,12,10,{"v":10.378785896192221,"d":"10.38"},{"v":10.631214103807773,"d":"10.63"},{"v":10.252571792384446,"d":"10.25"},{"v":10.757428207615549,"d":"10.76"},{"v":10.12635768857667,"d":"10.13"},{"v":10.883642311423325,"d":"10.88"},{"v":10.504999999999997,"d":"10.51"},null,0,0,{"$nulls":10},54,{"$error":"#N/A"},"","","","","",{"$error":"#N/A"}]
[null,55,"",{"$nulls":12},"Anzahl Klassen Histogramm",null,null,{"$f":"AnzahlKlassenHistogramm","v":5},{"$nulls":10},55,26,10.33,12,10,{"v":10.378785896192221,"d":"10.38"},{"v":10.631214103807773,"d":"10.63"},{"v":10.252571792384446,"d":"10.25"},{"v":10.757428207615549,"d":"10.76"},{"v":10.12635768857667,"d":"10.13"},{"v":10.883642311423325,"d":"10.88"},{"v":10.504999999999997,"d":"10.51"},null,0,0,{"$nulls":10},55,{"$error":"#N/A"},"","","","","",{"$error":"#N/A"}]
[null,56,"",{"$nulls":12},"Nummer","Untere","Obere",null,null,"Absolute","Relative",null,null,"Häufig-",{"$nulls":4},56,26,10.33,12,10,{"v":10.378785896192221,"d":"10.38"},{"v":10.631214103807773,"d":"10.63"},{"v":10.252571792384446,"d":"10.25"},{"v":10.757428207615549,"d":"10.76"},{"v":10.12635768857667,"d":"10.13"},{"v":10.883642311423325,"d":"10.88"},{"v":10.504999999999997,"d":"10.51"},null,0,0,{"$nulls":10},56,{"$error":"#N/A"},"","","","","",{"$error":"#N/A"}]
[null,57,"",{"$nulls":12},"der","Klassen-","Klassen-","Klassen-","Klassen-","Summen-","Summen-","Absolute","Relative","keits-",{"$nulls":4},57,26,10.33,12,10,{"v":10.378785896192221,"d":"10.38"},{"v":10.631214103807773,"d":"10.63"},{"v":10.252571792384446,"d":"10.25"},{"v":10.757428207615549,"d":"10.76"},{"v":10.12635768857667,"d":"10.13"},{"v":10.883642311423325,"d":"10.88"},{"v":10.504999999999997,"d":"10.51"},null,0,0,{"$nulls":10},57,{"$error":"#N/A"},"","","","","",{"$error":"#N/A"}]
[null,58,"",{"$nulls":12},"Klasse","grenze","grenze","mitte","breite","häufigkeit","häufigkeit","Häufigkeit","Häufigkeit","dichte",{"$nulls":4},58,26,10.33,12,10,{"v":10.378785896192221,"d":"10.38"},{"v":10.631214103807773,"d":"10.63"},{"v":10.252571792384446,"d":"10.25"},{"v":10.757428207615549,"d":"10.76"},{"v":10.12635768857667,"d":"10.13"},{"v":10.883642311423325,"d":"10.88"},{"v":10.504999999999997,"d":"10.51"},null,0,0,{"$nulls":10},58,{"$error":"#N/A"},"","","","","",{"$error":"#N/A"}]
[null,59,"",{"$nulls":12},"j","UKGj","OKGj","xj´","wj","G(OKGj)","H(OKGj)","nj","hj","h(x)",{"$nulls":4},59,26,10.33,12,10,{"v":10.378785896192221,"d":"10.38"},{"v":10.631214103807773,"d":"10.63"},{"v":10.252571792384446,"d":"10.25"},{"v":10.757428207615549,"d":"10.76"},{"v":10.12635768857667,"d":"10.13"},{"v":10.883642311423325,"d":"10.88"},{"v":10.504999999999997,"d":"10.51"},null,0,0,{"$nulls":10},59,{"$error":"#N/A"},"","","","","",{"$error":"#N/A"}]
[null,60,"",{"$nulls":12},1,{"$f":"Minimum","v":{"v":10.3,"d":"10.3000"}},{"$f":"Q64+T64","v":{"v":10.4,"d":"10.4000"}},{"$f":"(R64+Q64)/2","v":{"v":10.350000000000001,"d":"10.3500"}},{"$f":"Spannweite/AnzahlKlassenHistogramm","v":{"v":0.1,"d":"0.10000"}},{"$f":"FREQUENCY(xi,R64)","v":9},{"$f":"$U64/Anzahl","v":{"v":0.34615384615384615,"d":"34.6%"}},{"$f":"U64","v":9},{"$f":"W64/Anzahl","v":{"v":0.34615384615384615,"d":"34.6%"}},{"$f":"X64/T64","v":{"v":3.4615384615384612,"d":"3.46"}},{"$nulls":4},60,26,10.33,12,10,{"v":10.378785896192221,"d":"10.38"},{"v":10.631214103807773,"d":"10.63"},{"v":10.252571792384446,"d":"10.25"},{"v":10.757428207615549,"d":"10.76"},{"v":10.12635768857667,"d":"10.13"},{"v":10.883642311423325,"d":"10.88"},{"v":10.504999999999997,"d":"10.51"},null,0,0,{"$nulls":10},60,{"$error":"#N/A"},"","","","","",{"$error":"#N/A"}]
[null,61,"",{"$nulls":12},2,{"$f":"IF(AnzahlKlassenHistogramm<P65,Q64,Q64+T65+0.00000001)","v":{"v":10.400000010000001,"d":"10.4000"}},{"$f":"Q65+T65","v":{"v":10.50000001,"d":"10.5000"}},{"$f":"(R65+Q65)/2","v":{"v":10.45000001,"d":"10.4500"}},{"v":0.1,"d":"0.10000"},17,{"v":0.6538461538461539,"d":"65.4%"},{"$f":"U65-U64","v":8},{"v":0.3076923076923077,"d":"30.8%"},{"$f":"X65/T65","v":{"v":3.076923076923077,"d":"3.08"}},{"$nulls":4},61,26,10.33,12,10,{"v":10.378785896192221,"d":"10.38"},{"v":10.631214103807773,"d":"10.63"},{"v":10.252571792384446,"d":"10.25"},{"v":10.757428207615549,"d":"10.76"},{"v":10.12635768857667,"d":"10.13"},{"v":10.883642311423325,"d":"10.88"},{"v":10.504999999999997,"d":"10.51"},null,0,0,{"$nulls":10},61,{"$error":"#N/A"},"","","","","",{"$error":"#N/A"}]
[null,62,"",{"$nulls":12},3,{"v":10.500000020000002,"d":"10.5000"},{"$f":"Q66+T66","v":{"v":10.600000020000001,"d":"10.6000"}},{"$f":"(R66+Q66)/2","v":{"v":10.550000020000002,"d":"10.5500"}},{"v":0.1,"d":"0.10000"},23,{"v":0.8846153846153846,"d":"88.5%"},{"$f":"U66-U65","v":6},{"v":0.23076923076923078,"d":"23.1%"},{"$f":"X66/T66","v":{"v":2.3076923076923075,"d":"2.31"}},{"$nulls":4},62,26,10.33,12,10,{"v":10.378785896192221,"d":"10.38"},{"v":10.631214103807773,"d":"10.63"},{"v":10.252571792384446,"d":"10.25"},{"v":10.757428207615549,"d":"10.76"},{"v":10.12635768857667,"d":"10.13"},{"v":10.883642311423325,"d":"10.88"},{"v":10.504999999999997,"d":"10.51"},null,0,0,{"$nulls":10},62,{"$error":"#N/A"},"","","","","",{"$error":"#N/A"}]
[null,63,"",{"$nulls":12},4,{"v":10.600000030000002,"d":"10.6000"},{"v":10.700000030000002,"d":"10.7000"},{"v":10.650000030000001,"d":"10.6500"},{"v":0.1,"d":"0.10000"},25,{"v":0.9615384615384616,"d":"96.2%"},2,{"v":0.07692307692307693,"d":"7.7%"},{"v":0.7692307692307693,"d":"0.77"},{"$nulls":4},63,26,10.33,12,10,{"v":10.378785896192221,"d":"10.38"},{"v":10.631214103807773,"d":"10.63"},{"v":10.252571792384446,"d":"10.25"},{"v":10.757428207615549,"d":"10.76"},{"v":10.12635768857667,"d":"10.13"},{"v":10.883642311423325,"d":"10.88"},{"v":10.504999999999997,"d":"10.51"},null,0,0,{"$nulls":10},63,{"$error":"#N/A"},"","","","","",{"$error":"#N/A"}]
[null,64,"",{"$nulls":12},5,{"v":10.700000040000003,"d":"10.7000"},{"v":10.800000040000002,"d":"10.8000"},{"v":10.750000040000003,"d":"10.7500"},{"v":0.1,"d":"0.10000"},26,{"v":1,"d":"100.0%"},1,{"v":0.038461538461538464,"d":"3.8%"},{"v":0.38461538461538464,"d":"0.38"},{"$nulls":4},64,26,10.33,12,10,{"v":10.378785896192221,"d":"10.38"},{"v":10.631214103807773,"d":"10.63"},{"v":10.252571792384446,"d":"10.25"},{"v":10.757428207615549,"d":"10.76"},{"v":10.12635768857667,"d":"10.13"},{"v":10.883642311423325,"d":"10.88"},{"v":10.504999999999997,"d":"10.51"},null,0,0,{"$nulls":10},64,{"$error":"#N/A"},"","","","","",{"$error":"#N/A"}]
[null,65,"",{"$nulls":12},6,{"v":10.700000040000003,"d":"10.7000"},{"v":10.800000040000002,"d":"10.8000"},{"v":10.750000040000003,"d":"10.7500"},{"v":0.1,"d":"0.10000"},26,{"v":1,"d":"100.0%"},0,{"v":0,"d":"0.0%"},{"v":0,"d":"0.00"},{"$nulls":4},65,{"$f":"IF((Anzahl>AD69),AD69,Anzahl)","v":26},10.33,{"$f":"IF(C69<>\"\",OGW,AG68)","v":12},{"$f":"IF(C69<>\"\",UGW,AH68)","v":10},{"v":10.378785896192221,"d":"10.38"},{"v":10.631214103807773,"d":"10.63"},{"v":10.252571792384446,"d":"10.25"},{"v":10.757428207615549,"d":"10.76"},{"v":10.12635768857667,"d":"10.13"},{"v":10.883642311423325,"d":"10.88"},{"v":10.504999999999997,"d":"10.51"},null,{"$f":"IF(AND(C69<>\"\",C69<UGW),1,0)","v":0},{"$f":"IF(AND(C69<>\"\",C69>OGW),1,0)","v":0},{"$nulls":10},65,{"$f":"IF(C69=\"\",NA(),SMALL(xi,BE69))","v":{"$error":"#N/A"}},"",{"$f":"IF(C69=\"\",\"\",NORMSDIST((BD69-Mittelwert)/Standardabweichung))","v":""},{"$f":"IF(C69=\"\",\"\",1-BF69)","v":""},{"$f":"IF(C69=\"\",\"\",SMALL(BG,BE69))","v":""},{"$f":"IF(C69=\"\",\"\",(2*BE69-1)*(LN(BH69)+LN(BF69)))","v":""},{"$f":"IF(C69=\"\",NA(),NORMSINV((BE69-0.3)/(Anzahl+0.4)))","v":{"$error":"#N/A"}}]
[null,66,"",{"$nulls":12},7,{"v":10.700000040000003,"d":"10.7000"},{"v":10.800000040000002,"d":"10.8000"},{"v":10.750000040000003,"d":"10.7500"},{"v":0.1,"d":"0.10000"},26,{"v":1,"d":"100.0%"},0,{"v":0,"d":"0.0%"},{"v":0,"d":"0.00"},{"$nulls":4},66,26,10.33,12,10,{"$f":"AI69","v":{"v":10.378785896192221,"d":"10.38"}},{"v":10.631214103807773,"d":"10.63"},{"v":10.252571792384446,"d":"10.25"},{"v":10.757428207615549,"d":"10.76"},{"v":10.12635768857667,"d":"10.13"},{"v":10.883642311423325,"d":"10.88"},{"v":10.504999999999997,"d":"10.51"},null,0,0,{"$nulls":10},66,{"$error":"#N/A"},{"$f":"IF(C70=\"\",\"\",1+BE69)","v":""},"","","","",{"$error":"#N/A"}]
[null,67,"",{"$nulls":12},8,{"v":10.700000040000003,"d":"10.7000"},{"v":10.800000040000002,"d":"10.8000"},{"v":10.750000040000003,"d":"10.7500"},{"v":0.1,"d":"0.10000"},26,{"v":1,"d":"100.0%"},0,{"v":0,"d":"0.0%"},{"v":0,"d":"0.00"},{"$nulls":4},67,26,10.33,12,10,{"v":10.378785896192221,"d":"10.38"},{"v":10.631214103807773,"d":"10.63"},{"v":10.252571792384446,"d":"10.25"},{"v":10.757428207615549,"d":"10.76"},{"v":10.12635768857667,"d":"10.13"},{"v":10.883642311423325,"d":"10.88"},{"v":10.504999999999997,"d":"10.51"},null,0,0,{"$nulls":10},67,{"$error":"#N/A"},"","","","","",{"$error":"#N/A"}]
[null,68,"",{"$nulls":12},9,{"v":10.700000040000003,"d":"10.7000"},{"v":10.800000040000002,"d":"10.8000"},{"v":10.750000040000003,"d":"10.7500"},{"v":0.1,"d":"0.10000"},26,{"v":1,"d":"100.0%"},0,{"v":0,"d":"0.0%"},{"v":0,"d":"0.00"},{"$nulls":4},68,26,{"$f":"IF(C72<>\"\",C72,AF71)","v":10.33},12,10,{"v":10.378785896192221,"d":"10.38"},{"v":10.631214103807773,"d":"10.63"},{"v":10.252571792384446,"d":"10.25"},{"v":10.757428207615549,"d":"10.76"},{"v":10.12635768857667,"d":"10.13"},{"v":10.883642311423325,"d":"10.88"},{"v":10.504999999999997,"d":"10.51"},null,0,0,{"$nulls":10},68,{"$error":"#N/A"},"","","","","",{"$error":"#N/A"}]
[null,69,"",{"$nulls":12},10,{"v":10.700000040000003,"d":"10.7000"},{"v":10.800000040000002,"d":"10.8000"},{"v":10.750000040000003,"d":"10.7500"},{"v":0.1,"d":"0.10000"},26,{"v":1,"d":"100.0%"},0,{"v":0,"d":"0.0%"},{"v":0,"d":"0.00"},{"$nulls":4},69,26,10.33,12,10,{"v":10.378785896192221,"d":"10.38"},{"v":10.631214103807773,"d":"10.63"},{"v":10.252571792384446,"d":"10.25"},{"v":10.757428207615549,"d":"10.76"},{"v":10.12635768857667,"d":"10.13"},{"v":10.883642311423325,"d":"10.88"},{"v":10.504999999999997,"d":"10.51"},null,0,0,{"$nulls":10},69,{"$error":"#N/A"},"","","","","",{"$error":"#N/A"}]
[null,70,"",{"$nulls":12},11,{"v":10.700000040000003,"d":"10.7000"},{"v":10.800000040000002,"d":"10.8000"},{"v":10.750000040000003,"d":"10.7500"},{"v":0.1,"d":"0.10000"},26,{"v":1,"d":"100.0%"},0,{"v":0,"d":"0.0%"},{"v":0,"d":"0.00"},{"$nulls":4},70,26,10.33,12,10,{"v":10.378785896192221,"d":"10.38"},{"v":10.631214103807773,"d":"10.63"},{"v":10.252571792384446,"d":"10.25"},{"v":10.757428207615549,"d":"10.76"},{"v":10.12635768857667,"d":"10.13"},{"v":10.883642311423325,"d":"10.88"},{"v":10.504999999999997,"d":"10.51"},null,0,0,{"$nulls":10},70,{"$error":"#N/A"},"","","","","",{"$error":"#N/A"}]
[null,71,"",{"$nulls":12},12,{"v":10.700000040000003,"d":"10.7000"},{"v":10.800000040000002,"d":"10.8000"},{"v":10.750000040000003,"d":"10.7500"},{"v":0.1,"d":"0.10000"},26,{"v":1,"d":"100.0%"},0,{"v":0,"d":"0.0%"},{"v":0,"d":"0.00"},{"$nulls":4},71,26,10.33,12,10,{"v":10.378785896192221,"d":"10.38"},{"v":10.631214103807773,"d":"10.63"},{"v":10.252571792384446,"d":"10.25"},{"v":10.757428207615549,"d":"10.76"},{"v":10.12635768857667,"d":"10.13"},{"v":10.883642311423325,"d":"10.88"},{"v":10.504999999999997,"d":"10.51"},null,0,0,{"$nulls":10},71,{"$error":"#N/A"},"","","","","",{"$error":"#N/A"}]
[null,72,"",{"$nulls":12},13,{"v":10.700000040000003,"d":"10.7000"},{"v":10.800000040000002,"d":"10.8000"},{"v":10.750000040000003,"d":"10.7500"},{"v":0.1,"d":"0.10000"},26,{"v":1,"d":"100.0%"},0,{"v":0,"d":"0.0%"},{"v":0,"d":"0.00"},{"$nulls":4},72,26,10.33,12,10,{"v":10.378785896192221,"d":"10.38"},{"v":10.631214103807773,"d":"10.63"},{"v":10.252571792384446,"d":"10.25"},{"v":10.757428207615549,"d":"10.76"},{"v":10.12635768857667,"d":"10.13"},{"v":10.883642311423325,"d":"10.88"},{"v":10.504999999999997,"d":"10.51"},null,0,0,{"$nulls":10},72,{"$error":"#N/A"},"","","","","",{"$error":"#N/A"}]
[null,73,"",{"$nulls":12},14,{"v":10.700000040000003,"d":"10.7000"},{"v":10.800000040000002,"d":"10.8000"},{"v":10.750000040000003,"d":"10.7500"},{"v":0.1,"d":"0.10000"},26,{"v":1,"d":"100.0%"},0,{"v":0,"d":"0.0%"},{"v":0,"d":"0.00"},{"$nulls":4},73,26,10.33,12,10,{"v":10.378785896192221,"d":"10.38"},{"v":10.631214103807773,"d":"10.63"},{"v":10.252571792384446,"d":"10.25"},{"v":10.757428207615549,"d":"10.76"},{"v":10.12635768857667,"d":"10.13"},{"v":10.883642311423325,"d":"10.88"},{"v":10.504999999999997,"d":"10.51"},null,0,0,{"$nulls":10},73,{"$error":"#N/A"},"","","","","",{"$error":"#N/A"}]
[null,74,"",{"$nulls":12},15,{"v":10.700000040000003,"d":"10.7000"},{"v":10.800000040000002,"d":"10.8000"},{"v":10.750000040000003,"d":"10.7500"},{"v":0.1,"d":"0.10000"},26,{"v":1,"d":"100.0%"},0,{"v":0,"d":"0.0%"},{"v":0,"d":"0.00"},{"$nulls":4},74,26,10.33,12,10,{"v":10.378785896192221,"d":"10.38"},{"v":10.631214103807773,"d":"10.63"},{"v":10.252571792384446,"d":"10.25"},{"v":10.757428207615549,"d":"10.76"},{"v":10.12635768857667,"d":"10.13"},{"v":10.883642311423325,"d":"10.88"},{"v":10.504999999999997,"d":"10.51"},null,0,0,{"$nulls":10},74,{"$error":"#N/A"},"","","","","",{"$error":"#N/A"}]
[null,75,"",{"$nulls":12},16,{"v":10.700000040000003,"d":"10.7000"},{"v":10.800000040000002,"d":"10.8000"},{"v":10.750000040000003,"d":"10.7500"},{"v":0.1,"d":"0.10000"},26,{"v":1,"d":"100.0%"},0,{"v":0,"d":"0.0%"},{"v":0,"d":"0.00"},{"$nulls":4},75,26,10.33,12,10,{"v":10.378785896192221,"d":"10.38"},{"v":10.631214103807773,"d":"10.63"},{"v":10.252571792384446,"d":"10.25"},{"v":10.757428207615549,"d":"10.76"},{"v":10.12635768857667,"d":"10.13"},{"v":10.883642311423325,"d":"10.88"},{"v":10.504999999999997,"d":"10.51"},null,0,0,{"$nulls":10},75,{"$error":"#N/A"},"","","","","",{"$error":"#N/A"}]
[null,76,"",{"$nulls":12},17,{"v":10.700000040000003,"d":"10.7000"},{"v":10.800000040000002,"d":"10.8000"},{"v":10.750000040000003,"d":"10.7500"},{"v":0.1,"d":"0.10000"},26,{"v":1,"d":"100.0%"},0,{"v":0,"d":"0.0%"},{"v":0,"d":"0.00"},{"$nulls":4},76,26,10.33,12,10,{"v":10.378785896192221,"d":"10.38"},{"v":10.631214103807773,"d":"10.63"},{"v":10.252571792384446,"d":"10.25"},{"v":10.757428207615549,"d":"10.76"},{"v":10.12635768857667,"d":"10.13"},{"v":10.883642311423325,"d":"10.88"},{"v":10.504999999999997,"d":"10.51"},null,0,0,{"$nulls":10},76,{"$error":"#N/A"},"","","","","",{"$error":"#N/A"}]
[null,77,"",{"$nulls":12},18,{"v":10.700000040000003,"d":"10.7000"},{"v":10.800000040000002,"d":"10.8000"},{"v":10.750000040000003,"d":"10.7500"},{"v":0.1,"d":"0.10000"},26,{"v":1,"d":"100.0%"},0,{"v":0,"d":"0.0%"},{"v":0,"d":"0.00"},{"$nulls":4},77,26,10.33,12,10,{"v":10.378785896192221,"d":"10.38"},{"v":10.631214103807773,"d":"10.63"},{"v":10.252571792384446,"d":"10.25"},{"v":10.757428207615549,"d":"10.76"},{"v":10.12635768857667,"d":"10.13"},{"v":10.883642311423325,"d":"10.88"},{"v":10.504999999999997,"d":"10.51"},null,0,0,{"$nulls":10},77,{"$error":"#N/A"},"","","","","",{"$error":"#N/A"}]
[null,78,"",{"$nulls":12},19,{"v":10.700000040000003,"d":"10.7000"},{"v":10.800000040000002,"d":"10.8000"},{"v":10.750000040000003,"d":"10.7500"},{"v":0.1,"d":"0.10000"},26,{"v":1,"d":"100.0%"},0,{"v":0,"d":"0.0%"},{"v":0,"d":"0.00"},{"$nulls":4},78,26,10.33,12,10,{"v":10.378785896192221,"d":"10.38"},{"v":10.631214103807773,"d":"10.63"},{"v":10.252571792384446,"d":"10.25"},{"v":10.757428207615549,"d":"10.76"},{"v":10.12635768857667,"d":"10.13"},{"v":10.883642311423325,"d":"10.88"},{"v":10.504999999999997,"d":"10.51"},null,0,0,{"$nulls":10},78,{"$error":"#N/A"},"","","","","",{"$error":"#N/A"}]
[null,79,"",{"$nulls":12},20,{"v":10.700000040000003,"d":"10.7000"},{"v":10.800000040000002,"d":"10.8000"},{"v":10.750000040000003,"d":"10.7500"},{"v":0.1,"d":"0.10000"},26,{"v":1,"d":"100.0%"},0,{"v":0,"d":"0.0%"},{"v":0,"d":"0.00"},{"$nulls":4},79,26,10.33,12,10,{"v":10.378785896192221,"d":"10.38"},{"v":10.631214103807773,"d":"10.63"},{"v":10.252571792384446,"d":"10.25"},{"v":10.757428207615549,"d":"10.76"},{"v":10.12635768857667,"d":"10.13"},{"v":10.883642311423325,"d":"10.88"},{"v":10.504999999999997,"d":"10.51"},null,0,0,{"$nulls":10},79,{"$error":"#N/A"},"","","","","",{"$error":"#N/A"}]
[null,80,"",{"$nulls":26},80,26,10.33,12,10,{"v":10.378785896192221,"d":"10.38"},{"v":10.631214103807773,"d":"10.63"},{"v":10.252571792384446,"d":"10.25"},{"v":10.757428207615549,"d":"10.76"},{"v":10.12635768857667,"d":"10.13"},{"v":10.883642311423325,"d":"10.88"},{"v":10.504999999999997,"d":"10.51"},null,0,0,{"$nulls":10},80,{"$error":"#N/A"},"","","","","",{"$error":"#N/A"}]
[null,81,"",{"$nulls":26},81,26,10.33,12,10,{"v":10.378785896192221,"d":"10.38"},{"v":10.631214103807773,"d":"10.63"},{"v":10.252571792384446,"d":"10.25"},{"v":10.757428207615549,"d":"10.76"},{"v":10.12635768857667,"d":"10.13"},{"v":10.883642311423325,"d":"10.88"},{"v":10.504999999999997,"d":"10.51"},null,0,0,{"$nulls":10},81,{"$error":"#N/A"},"","","","","",{"$error":"#N/A"}]
[null,82,"",{"$nulls":12},"Histogramm Normalverteilung",{"$nulls":13},82,26,10.33,12,10,{"$f":"AI85","v":{"v":10.378785896192221,"d":"10.38"}},{"v":10.631214103807773,"d":"10.63"},{"v":10.252571792384446,"d":"10.25"},{"v":10.757428207615549,"d":"10.76"},{"v":10.12635768857667,"d":"10.13"},{"v":10.883642311423325,"d":"10.88"},{"v":10.504999999999997,"d":"10.51"},null,0,0,{"$nulls":10},82,{"$error":"#N/A"},"","","","","",{"$error":"#N/A"}]
[null,83,"",{"$nulls":13},1.1,{"$f":"R88-(Q87*Standardabweichung)","v":{"v":9.671986914868677,"d":"9.67"}},{"$f":"NORMDIST(R87,Mittelwert,Standardabweichung,0)","v":{"v":1.0986727729550035E-9,"d":"0.00"}},null,{"$f":"IF('Eingabe und Diagramm'!AB2=1,\"OGW\",\"USL\")","v":"USL"},{"$f":"OGW","v":{"v":12,"d":"12.0000"}},{"$f":"MAX(Häufigkeitsdichte)*1.05","v":{"v":3.6346153846153846,"d":"3.63"}},{"$nulls":6},83,26,10.33,12,10,{"v":10.378785896192221,"d":"10.38"},{"v":10.631214103807773,"d":"10.63"},{"v":10.252571792384446,"d":"10.25"},{"v":10.757428207615549,"d":"10.76"},{"v":10.12635768857667,"d":"10.13"},{"v":10.883642311423325,"d":"10.88"},{"v":10.504999999999997,"d":"10.51"},null,0,0,{"$nulls":10},83,{"$error":"#N/A"},"","","","","",{"$error":"#N/A"}]
[null,84,"",{"$nulls":13},1,{"v":9.81082242905723,"d":"9.81"},{"v":8.5329291399517643E-7,"d":"0.00"},null,{"$f":"IF('Eingabe und Diagramm'!AB2=1,\"UGW\",\"LSL\")","v":"LSL"},{"$f":"UGW","v":{"v":10,"d":"10.0000"}},{"v":3.6346153846153846,"d":"3.63"},{"$nulls":6},84,26,10.33,12,10,{"v":10.378785896192221,"d":"10.38"},{"v":10.631214103807773,"d":"10.63"},{"v":10.252571792384446,"d":"10.25"},{"v":10.757428207615549,"d":"10.76"},{"v":10.12635768857667,"d":"10.13"},{"v":10.883642311423325,"d":"10.88"},{"v":10.504999999999997,"d":"10.51"},null,0,0,{"$nulls":10},84,{"$error":"#N/A"},"","","","","",{"$error":"#N/A"}]
[null,85,"",{"$nulls":13},0.9,{"v":9.937036532865006,"d":"9.94"},{"v":1.2663989700586982E-4,"d":"0.00"},null,{"$f":"\"+ 3 Sigma\"","v":"+ 3 Sigma"},{"$f":"Mittelwert+3*Standardabweichung","v":{"v":10.883642311423325,"d":"10.8836"}},{"v":3.6346153846153846,"d":"3.63"},{"$nulls":6},85,26,10.33,12,10,{"v":10.378785896192221,"d":"10.38"},{"v":10.631214103807773,"d":"10.63"},{"v":10.252571792384446,"d":"10.25"},{"v":10.757428207615549,"d":"10.76"},{"v":10.12635768857667,"d":"10.13"},{"v":10.883642311423325,"d":"10.88"},{"v":10.504999999999997,"d":"10.51"},null,0,0,{"$nulls":10},85,{"$error":"#N/A"},"","","","","",{"$error":"#N/A"}]
[null,86,"",{"$nulls":13},0.8,{"v":10.050629226292005,"d":"10.05"},{"v":0.004848126411020473,"d":"0.00"},null,{"$f":"\"- 3 Sigma\"","v":"- 3 Sigma"},{"$f":"Mittelwert-3*Standardabweichung","v":{"v":10.12635768857667,"d":"10.1264"}},{"v":3.6346153846153846,"d":"3.63"},{"$nulls":6},86,26,10.33,12,10,{"v":10.378785896192221,"d":"10.38"},{"v":10.631214103807773,"d":"10.63"},{"v":10.252571792384446,"d":"10.25"},{"v":10.757428207615549,"d":"10.76"},{"v":10.12635768857667,"d":"10.13"},{"v":10.883642311423325,"d":"10.88"},{"v":10.504999999999997,"d":"10.51"},null,0,0,{"$nulls":10},86,{"$error":"#N/A"},"","","","","",{"$error":"#N/A"}]
[null,87,"",{"$nulls":13},0.7,{"v":10.151600509338225,"d":"10.15"},{"v":0.06271447757562103,"d":"0.06"},null,{"$f":"O13","v":"mid µ"},{"$f":"Mittelwert","v":{"v":10.504999999999997,"d":"10.5050"}},{"v":3.6346153846153846,"d":"3.63"},{"$nulls":6},87,26,10.33,12,10,{"v":10.378785896192221,"d":"10.38"},{"v":10.631214103807773,"d":"10.63"},{"v":10.252571792384446,"d":"10.25"},{"v":10.757428207615549,"d":"10.76"},{"v":10.12635768857667,"d":"10.13"},{"v":10.883642311423325,"d":"10.88"},{"v":10.504999999999997,"d":"10.51"},null,0,0,{"$nulls":10},87,{"$error":"#N/A"},"","","","","",{"$error":"#N/A"}]
[null,88,"",{"$nulls":13},0.6,{"v":10.239950382003668,"d":"10.24"},{"v":0.3484840018149951,"d":"0.35"},null,{"$f":"O8","v":"Nominal value ="},{"$f":"Sollwert","v":{"v":11,"d":"11.0000"}},{"v":3.6346153846153846,"d":"3.63"},{"$nulls":6},88,26,10.33,12,10,{"v":10.378785896192221,"d":"10.38"},{"v":10.631214103807773,"d":"10.63"},{"v":10.252571792384446,"d":"10.25"},{"v":10.757428207615549,"d":"10.76"},{"v":10.12635768857667,"d":"10.13"},{"v":10.883642311423325,"d":"10.88"},{"v":10.504999999999997,"d":"10.51"},null,0,0,{"$nulls":10},88,{"$error":"#N/A"},"","","","","",{"$error":"#N/A"}]
[null,89,"",{"$nulls":13},0.5,{"v":10.315678844288334,"d":"10.32"},{"v":1.026173714018101,"d":"1.03"},{"$nulls":10},89,26,10.33,12,10,{"v":10.378785896192221,"d":"10.38"},{"v":10.631214103807773,"d":"10.63"},{"v":10.252571792384446,"d":"10.25"},{"v":10.757428207615549,"d":"10.76"},{"v":10.12635768857667,"d":"10.13"},{"v":10.883642311423325,"d":"10.88"},{"v":10.504999999999997,"d":"10.51"},null,0,0,{"$nulls":10},89,{"$error":"#N/A"},"","","","","",{"$error":"#N/A"}]
[null,90,"",{"$nulls":13},0.4,{"v":10.378785896192221,"d":"10.38"},{"v":1.9171448928375316,"d":"1.92"},{"$nulls":10},90,26,10.33,12,10,{"v":10.378785896192221,"d":"10.38"},{"v":10.631214103807773,"d":"10.63"},{"v":10.252571792384446,"d":"10.25"},{"v":10.757428207615549,"d":"10.76"},{"v":10.12635768857667,"d":"10.13"},{"v":10.883642311423325,"d":"10.88"},{"v":10.504999999999997,"d":"10.51"},null,0,0,{"$nulls":10},90,{"$error":"#N/A"},"","","","","",{"$error":"#N/A"}]
[null,91,"",{"$nulls":13},0.3,{"v":10.429271537715332,"d":"10.43"},{"v":2.640153460181452,"d":"2.64"},{"$nulls":10},91,26,10.33,12,10,{"v":10.378785896192221,"d":"10.38"},{"v":10.631214103807773,"d":"10.63"},{"v":10.252571792384446,"d":"10.25"},{"v":10.757428207615549,"d":"10.76"},{"v":10.12635768857667,"d":"10.13"},{"v":10.883642311423325,"d":"10.88"},{"v":10.504999999999997,"d":"10.51"},null,0,0,{"$nulls":10},91,{"$error":"#N/A"},"","","","","",{"$error":"#N/A"}]
[null,92,"",{"$nulls":13},0.2,{"v":10.467135768857665,"d":"10.47"},{"v":3.0217527515100766,"d":"3.02"},{"$nulls":10},92,26,10.33,12,10,{"v":10.378785896192221,"d":"10.38"},{"v":10.631214103807773,"d":"10.63"},{"v":10.252571792384446,"d":"10.25"},{"v":10.757428207615549,"d":"10.76"},{"v":10.12635768857667,"d":"10.13"},{"v":10.883642311423325,"d":"10.88"},{"v":10.504999999999997,"d":"10.51"},null,0,0,{"$nulls":10},92,{"$error":"#N/A"},"","","","","",{"$error":"#N/A"}]
[null,93,"",{"$nulls":13},0.1,{"v":10.49237858961922,"d":"10.49"},{"v":3.1450728207171825,"d":"3.15"},{"$nulls":10},93,26,10.33,12,10,{"v":10.378785896192221,"d":"10.38"},{"v":10.631214103807773,"d":"10.63"},{"v":10.252571792384446,"d":"10.25"},{"v":10.757428207615549,"d":"10.76"},{"v":10.12635768857667,"d":"10.13"},{"v":10.883642311423325,"d":"10.88"},{"v":10.504999999999997,"d":"10.51"},null,0,0,{"$nulls":10},93,{"$error":"#N/A"},"","","","","",{"$error":"#N/A"}]
[null,94,"",{"$nulls":13},0,{"$f":"Mittelwert","v":{"v":10.504999999999997,"d":"10.51"}},{"v":3.1608375638353627,"d":"3.16"},{"$nulls":10},94,26,10.33,12,10,{"v":10.378785896192221,"d":"10.38"},{"v":10.631214103807773,"d":"10.63"},{"v":10.252571792384446,"d":"10.25"},{"v":10.757428207615549,"d":"10.76"},{"v":10.12635768857667,"d":"10.13"},{"v":10.883642311423325,"d":"10.88"},{"v":10.504999999999997,"d":"10.51"},null,0,0,{"$nulls":10},94,{"$error":"#N/A"},"","","","","",{"$error":"#N/A"}]
[null,95,"",{"$nulls":13},0.1,{"$f":"R98+(Q99*Standardabweichung)","v":{"v":10.517621410380775,"d":"10.52"}},{"v":3.1450728207171825,"d":"3.15"},{"$nulls":10},95,26,10.33,12,10,{"v":10.378785896192221,"d":"10.38"},{"v":10.631214103807773,"d":"10.63"},{"v":10.252571792384446,"d":"10.25"},{"v":10.757428207615549,"d":"10.76"},{"v":10.12635768857667,"d":"10.13"},{"v":10.883642311423325,"d":"10.88"},{"v":10.504999999999997,"d":"10.51"},null,0,0,{"$nulls":10},95,{"$error":"#N/A"},"","","","","",{"$error":"#N/A"}]
[null,96,"",{"$nulls":13},0.2,{"v":10.54286423114233,"d":"10.54"},{"v":3.0217527515100766,"d":"3.02"},{"$nulls":10},96,26,10.33,12,10,{"v":10.378785896192221,"d":"10.38"},{"v":10.631214103807773,"d":"10.63"},{"v":10.252571792384446,"d":"10.25"},{"v":10.757428207615549,"d":"10.76"},{"v":10.12635768857667,"d":"10.13"},{"v":10.883642311423325,"d":"10.88"},{"v":10.504999999999997,"d":"10.51"},null,0,0,{"$nulls":10},96,{"$error":"#N/A"},"","","","","",{"$error":"#N/A"}]
[null,97,"",{"$nulls":13},0.3,{"v":10.580728462284663,"d":"10.58"},{"v":2.640153460181452,"d":"2.64"},{"$nulls":10},97,{"$f":"IF((Anzahl>AD101),AD101,Anzahl)","v":26},10.33,{"$f":"IF(C101<>\"\",OGW,AG100)","v":12},{"$f":"IF(C101<>\"\",UGW,AH100)","v":10},{"v":10.378785896192221,"d":"10.38"},{"v":10.631214103807773,"d":"10.63"},{"v":10.252571792384446,"d":"10.25"},{"v":10.757428207615549,"d":"10.76"},{"v":10.12635768857667,"d":"10.13"},{"v":10.883642311423325,"d":"10.88"},{"v":10.504999999999997,"d":"10.51"},null,{"$f":"IF(AND(C101<>\"\",C101<UGW),1,0)","v":0},{"$f":"IF(AND(C101<>\"\",C101>OGW),1,0)","v":0},{"$nulls":10},97,{"$f":"IF(C101=\"\",NA(),SMALL(xi,BE101))","v":{"$error":"#N/A"}},"",{"$f":"IF(C101=\"\",\"\",NORMSDIST((BD101-Mittelwert)/Standardabweichung))","v":""},{"$f":"IF(C101=\"\",\"\",1-BF101)","v":""},{"$f":"IF(C101=\"\",\"\",SMALL(BG,BE101))","v":""},{"$f":"IF(C101=\"\",\"\",(2*BE101-1)*(LN(BH101)+LN(BF101)))","v":""},{"$f":"IF(C101=\"\",NA(),NORMSINV((BE101-0.3)/(Anzahl+0.4)))","v":{"$error":"#N/A"}}]
[null,98,"",{"$nulls":13},0.4,{"v":10.631214103807773,"d":"10.63"},{"v":1.9171448928375316,"d":"1.92"},{"$nulls":10},98,26,10.33,12,10,{"$f":"AI101","v":{"v":10.378785896192221,"d":"10.38"}},{"v":10.631214103807773,"d":"10.63"},{"v":10.252571792384446,"d":"10.25"},{"v":10.757428207615549,"d":"10.76"},{"v":10.12635768857667,"d":"10.13"},{"v":10.883642311423325,"d":"10.88"},{"v":10.504999999999997,"d":"10.51"},null,0,0,{"$nulls":10},98,{"$error":"#N/A"},{"$f":"IF(C102=\"\",\"\",1+BE101)","v":""},"","","","",{"$error":"#N/A"}]
[null,99,"",{"$nulls":13},0.5,{"v":10.69432115571166,"d":"10.69"},{"v":1.026173714018101,"d":"1.03"},{"$nulls":10},99,26,10.33,12,10,{"v":10.378785896192221,"d":"10.38"},{"v":10.631214103807773,"d":"10.63"},{"v":10.252571792384446,"d":"10.25"},{"v":10.757428207615549,"d":"10.76"},{"v":10.12635768857667,"d":"10.13"},{"v":10.883642311423325,"d":"10.88"},{"v":10.504999999999997,"d":"10.51"},null,0,0,{"$nulls":10},99,{"$error":"#N/A"},"","","","","",{"$error":"#N/A"}]
[null,100,{"$f":"IF(F54=\"\",\"\",F54)","v":""},{"$nulls":13},0.6,{"v":10.770049617996326,"d":"10.77"},{"v":0.3484840018149951,"d":"0.35"},{"$nulls":10},100,26,10.33,12,10,{"v":10.378785896192221,"d":"10.38"},{"v":10.631214103807773,"d":"10.63"},{"v":10.252571792384446,"d":"10.25"},{"v":10.757428207615549,"d":"10.76"},{"v":10.12635768857667,"d":"10.13"},{"v":10.883642311423325,"d":"10.88"},{"v":10.504999999999997,"d":"10.51"},null,0,0,{"$nulls":10},100,{"$error":"#N/A"},"","","","","",{"$error":"#N/A"}]
[null,101,{"$f":"IF(I5=\"\",\"\",I5)","v":""},{"$nulls":13},0.7,{"v":10.85839949066177,"d":"10.86"},{"v":0.06271447757562103,"d":"0.06"},{"$nulls":10},101,{"$f":"IF((Anzahl>AD105),AD105,Anzahl)","v":26},10.33,12,10,{"v":10.378785896192221,"d":"10.38"},{"v":10.631214103807773,"d":"10.63"},{"v":10.252571792384446,"d":"10.25"},{"v":10.757428207615549,"d":"10.76"},{"v":10.12635768857667,"d":"10.13"},{"v":10.883642311423325,"d":"10.88"},{"v":10.504999999999997,"d":"10.51"},null,0,0,{"$nulls":10},101,{"$error":"#N/A"},"","","","","",{"$error":"#N/A"}]
[null,102,{"$f":"IF(I6=\"\",\"\",I6)","v":""},{"$nulls":13},0.8,{"v":10.95937077370799,"d":"10.96"},{"v":0.004848126411020473,"d":"0.00"},{"$nulls":10},102,26,10.33,12,10,{"v":10.378785896192221,"d":"10.38"},{"v":10.631214103807773,"d":"10.63"},{"v":10.252571792384446,"d":"10.25"},{"v":10.757428207615549,"d":"10.76"},{"v":10.12635768857667,"d":"10.13"},{"v":10.883642311423325,"d":"10.88"},{"v":10.504999999999997,"d":"10.51"},null,0,0,{"$nulls":10},102,{"$error":"#N/A"},"","","","","",{"$error":"#N/A"}]
[null,103,"",{"$nulls":13},0.9,{"v":11.072963467134988,"d":"11.07"},{"v":1.2663989700586982E-4,"d":"0.00"},{"$nulls":10},103,26,10.33,12,10,{"v":10.378785896192221,"d":"10.38"},{"v":10.631214103807773,"d":"10.63"},{"v":10.252571792384446,"d":"10.25"},{"v":10.757428207615549,"d":"10.76"},{"v":10.12635768857667,"d":"10.13"},{"v":10.883642311423325,"d":"10.88"},{"v":10.504999999999997,"d":"10.51"},null,0,0,{"$nulls":10},103,{"$error":"#N/A"},"","","","","",{"$error":"#N/A"}]
[null,104,"",{"$nulls":13},1,{"v":11.199177570942764,"d":"11.20"},{"v":8.5329291399517643E-7,"d":"0.00"},{"$nulls":10},104,26,10.33,12,10,{"v":10.378785896192221,"d":"10.38"},{"v":10.631214103807773,"d":"10.63"},{"v":10.252571792384446,"d":"10.25"},{"v":10.757428207615549,"d":"10.76"},{"v":10.12635768857667,"d":"10.13"},{"v":10.883642311423325,"d":"10.88"},{"v":10.504999999999997,"d":"10.51"},null,0,0,{"$nulls":10},104,{"$error":"#N/A"},"","","","","",{"$error":"#N/A"}]
[null,105,"",{"$nulls":13},1.1,{"v":11.338013085131317,"d":"11.34"},{"v":1.0986727729550035E-9,"d":"0.00"},{"$nulls":10},105,26,10.33,12,10,{"v":10.378785896192221,"d":"10.38"},{"v":10.631214103807773,"d":"10.63"},{"v":10.252571792384446,"d":"10.25"},{"v":10.757428207615549,"d":"10.76"},{"v":10.12635768857667,"d":"10.13"},{"v":10.883642311423325,"d":"10.88"},{"v":10.504999999999997,"d":"10.51"},null,0,0,{"$nulls":10},105,{"$error":"#N/A"},"","","","","",{"$error":"#N/A"}]
[null,106,"",{"$nulls":26},106,26,10.33,12,10,{"v":10.378785896192221,"d":"10.38"},{"v":10.631214103807773,"d":"10.63"},{"v":10.252571792384446,"d":"10.25"},{"v":10.757428207615549,"d":"10.76"},{"v":10.12635768857667,"d":"10.13"},{"v":10.883642311423325,"d":"10.88"},{"v":10.504999999999997,"d":"10.51"},null,0,0,{"$nulls":10},106,{"$error":"#N/A"},"","","","","",{"$error":"#N/A"}]
[null,107,"",{"$nulls":26},107,26,10.33,12,10,{"v":10.378785896192221,"d":"10.38"},{"v":10.631214103807773,"d":"10.63"},{"v":10.252571792384446,"d":"10.25"},{"v":10.757428207615549,"d":"10.76"},{"v":10.12635768857667,"d":"10.13"},{"v":10.883642311423325,"d":"10.88"},{"v":10.504999999999997,"d":"10.51"},null,0,0,{"$nulls":10},107,{"$error":"#N/A"},"","","","","",{"$error":"#N/A"}]
[null,108,"",{"$nulls":26},108,26,10.33,12,10,{"v":10.378785896192221,"d":"10.38"},{"v":10.631214103807773,"d":"10.63"},{"v":10.252571792384446,"d":"10.25"},{"v":10.757428207615549,"d":"10.76"},{"v":10.12635768857667,"d":"10.13"},{"v":10.883642311423325,"d":"10.88"},{"v":10.504999999999997,"d":"10.51"},null,0,0,{"$nulls":10},108,{"$error":"#N/A"},"","","","","",{"$error":"#N/A"}]
[null,109,"",{"$nulls":26},109,26,10.33,12,10,{"v":10.378785896192221,"d":"10.38"},{"v":10.631214103807773,"d":"10.63"},{"v":10.252571792384446,"d":"10.25"},{"v":10.757428207615549,"d":"10.76"},{"v":10.12635768857667,"d":"10.13"},{"v":10.883642311423325,"d":"10.88"},{"v":10.504999999999997,"d":"10.51"},null,0,0,{"$nulls":10},109,{"$error":"#N/A"},"","","","","",{"$error":"#N/A"}]
[null,110,"",{"$nulls":26},110,26,10.33,12,10,{"v":10.378785896192221,"d":"10.38"},{"v":10.631214103807773,"d":"10.63"},{"v":10.252571792384446,"d":"10.25"},{"v":10.757428207615549,"d":"10.76"},{"v":10.12635768857667,"d":"10.13"},{"v":10.883642311423325,"d":"10.88"},{"v":10.504999999999997,"d":"10.51"},null,0,0,{"$nulls":10},110,{"$error":"#N/A"},"","","","","",{"$error":"#N/A"}]
[null,111,"",{"$nulls":26},111,26,10.33,12,10,{"v":10.378785896192221,"d":"10.38"},{"v":10.631214103807773,"d":"10.63"},{"v":10.252571792384446,"d":"10.25"},{"v":10.757428207615549,"d":"10.76"},{"v":10.12635768857667,"d":"10.13"},{"v":10.883642311423325,"d":"10.88"},{"v":10.504999999999997,"d":"10.51"},null,0,0,{"$nulls":10},111,{"$error":"#N/A"},"","","","","",{"$error":"#N/A"}]
[null,112,"",{"$nulls":26},112,26,10.33,12,10,{"v":10.378785896192221,"d":"10.38"},{"v":10.631214103807773,"d":"10.63"},{"v":10.252571792384446,"d":"10.25"},{"v":10.757428207615549,"d":"10.76"},{"v":10.12635768857667,"d":"10.13"},{"v":10.883642311423325,"d":"10.88"},{"v":10.504999999999997,"d":"10.51"},null,0,0,{"$nulls":10},112,{"$error":"#N/A"},"","","","","",{"$error":"#N/A"}]
[null,113,"",{"$nulls":26},113,26,10.33,12,10,{"v":10.378785896192221,"d":"10.38"},{"v":10.631214103807773,"d":"10.63"},{"v":10.252571792384446,"d":"10.25"},{"v":10.757428207615549,"d":"10.76"},{"v":10.12635768857667,"d":"10.13"},{"v":10.883642311423325,"d":"10.88"},{"v":10.504999999999997,"d":"10.51"},null,0,0,{"$nulls":10},113,{"$error":"#N/A"},"","","","","",{"$error":"#N/A"}]
[null,114,"",{"$nulls":26},114,26,10.33,12,10,{"$f":"AI117","v":{"v":10.378785896192221,"d":"10.38"}},{"v":10.631214103807773,"d":"10.63"},{"v":10.252571792384446,"d":"10.25"},{"v":10.757428207615549,"d":"10.76"},{"v":10.12635768857667,"d":"10.13"},{"v":10.883642311423325,"d":"10.88"},{"v":10.504999999999997,"d":"10.51"},null,0,0,{"$nulls":10},114,{"$error":"#N/A"},"","","","","",{"$error":"#N/A"}]
[null,115,"",{"$nulls":26},115,26,10.33,12,10,{"v":10.378785896192221,"d":"10.38"},{"v":10.631214103807773,"d":"10.63"},{"v":10.252571792384446,"d":"10.25"},{"v":10.757428207615549,"d":"10.76"},{"v":10.12635768857667,"d":"10.13"},{"v":10.883642311423325,"d":"10.88"},{"v":10.504999999999997,"d":"10.51"},null,0,0,{"$nulls":10},115,{"$error":"#N/A"},"","","","","",{"$error":"#N/A"}]
[null,116,"",{"$nulls":26},116,26,10.33,12,10,{"v":10.378785896192221,"d":"10.38"},{"v":10.631214103807773,"d":"10.63"},{"v":10.252571792384446,"d":"10.25"},{"v":10.757428207615549,"d":"10.76"},{"v":10.12635768857667,"d":"10.13"},{"v":10.883642311423325,"d":"10.88"},{"v":10.504999999999997,"d":"10.51"},null,0,0,{"$nulls":10},116,{"$error":"#N/A"},"","","","","",{"$error":"#N/A"}]
[null,117,"",{"$nulls":26},117,26,10.33,12,10,{"v":10.378785896192221,"d":"10.38"},{"v":10.631214103807773,"d":"10.63"},{"v":10.252571792384446,"d":"10.25"},{"v":10.757428207615549,"d":"10.76"},{"v":10.12635768857667,"d":"10.13"},{"v":10.883642311423325,"d":"10.88"},{"v":10.504999999999997,"d":"10.51"},null,0,0,{"$nulls":10},117,{"$error":"#N/A"},"","","","","",{"$error":"#N/A"}]
[null,118,"",{"$nulls":26},118,26,10.33,12,10,{"v":10.378785896192221,"d":"10.38"},{"v":10.631214103807773,"d":"10.63"},{"v":10.252571792384446,"d":"10.25"},{"v":10.757428207615549,"d":"10.76"},{"v":10.12635768857667,"d":"10.13"},{"v":10.883642311423325,"d":"10.88"},{"v":10.504999999999997,"d":"10.51"},null,0,0,{"$nulls":10},118,{"$error":"#N/A"},"","","","","",{"$error":"#N/A"}]
[null,119,"",{"$nulls":26},119,26,10.33,12,10,{"v":10.378785896192221,"d":"10.38"},{"v":10.631214103807773,"d":"10.63"},{"v":10.252571792384446,"d":"10.25"},{"v":10.757428207615549,"d":"10.76"},{"v":10.12635768857667,"d":"10.13"},{"v":10.883642311423325,"d":"10.88"},{"v":10.504999999999997,"d":"10.51"},null,0,0,{"$nulls":10},119,{"$error":"#N/A"},"","","","","",{"$error":"#N/A"}]
[null,120,"",{"$nulls":26},120,26,10.33,12,10,{"v":10.378785896192221,"d":"10.38"},{"v":10.631214103807773,"d":"10.63"},{"v":10.252571792384446,"d":"10.25"},{"v":10.757428207615549,"d":"10.76"},{"v":10.12635768857667,"d":"10.13"},{"v":10.883642311423325,"d":"10.88"},{"v":10.504999999999997,"d":"10.51"},null,0,0,{"$nulls":10},120,{"$error":"#N/A"},"","","","","",{"$error":"#N/A"}]
[null,121,"",{"$nulls":26},121,26,10.33,12,10,{"v":10.378785896192221,"d":"10.38"},{"v":10.631214103807773,"d":"10.63"},{"v":10.252571792384446,"d":"10.25"},{"v":10.757428207615549,"d":"10.76"},{"v":10.12635768857667,"d":"10.13"},{"v":10.883642311423325,"d":"10.88"},{"v":10.504999999999997,"d":"10.51"},null,0,0,{"$nulls":10},121,{"$error":"#N/A"},"","","","","",{"$error":"#N/A"}]
[null,122,"",{"$nulls":26},122,26,10.33,12,10,{"v":10.378785896192221,"d":"10.38"},{"v":10.631214103807773,"d":"10.63"},{"v":10.252571792384446,"d":"10.25"},{"v":10.757428207615549,"d":"10.76"},{"v":10.12635768857667,"d":"10.13"},{"v":10.883642311423325,"d":"10.88"},{"v":10.504999999999997,"d":"10.51"},null,0,0,{"$nulls":10},122,{"$error":"#N/A"},"","","","","",{"$error":"#N/A"}]
[null,123,"",{"$nulls":26},123,26,10.33,12,10,{"v":10.378785896192221,"d":"10.38"},{"v":10.631214103807773,"d":"10.63"},{"v":10.252571792384446,"d":"10.25"},{"v":10.757428207615549,"d":"10.76"},{"v":10.12635768857667,"d":"10.13"},{"v":10.883642311423325,"d":"10.88"},{"v":10.504999999999997,"d":"10.51"},null,0,0,{"$nulls":10},123,{"$error":"#N/A"},"","","","","",{"$error":"#N/A"}]
[null,124,"",{"$nulls":26},124,26,10.33,12,10,{"v":10.378785896192221,"d":"10.38"},{"v":10.631214103807773,"d":"10.63"},{"v":10.252571792384446,"d":"10.25"},{"v":10.757428207615549,"d":"10.76"},{"v":10.12635768857667,"d":"10.13"},{"v":10.883642311423325,"d":"10.88"},{"v":10.504999999999997,"d":"10.51"},null,0,0,{"$nulls":10},124,{"$error":"#N/A"},"","","","","",{"$error":"#N/A"}]
[null,125,"",{"$nulls":26},125,26,10.33,12,10,{"v":10.378785896192221,"d":"10.38"},{"v":10.631214103807773,"d":"10.63"},{"v":10.252571792384446,"d":"10.25"},{"v":10.757428207615549,"d":"10.76"},{"v":10.12635768857667,"d":"10.13"},{"v":10.883642311423325,"d":"10.88"},{"v":10.504999999999997,"d":"10.51"},null,0,0,{"$nulls":10},125,{"$error":"#N/A"},"","","","","",{"$error":"#N/A"}]
[null,126,"",{"$nulls":26},126,26,10.33,12,10,{"v":10.378785896192221,"d":"10.38"},{"v":10.631214103807773,"d":"10.63"},{"v":10.252571792384446,"d":"10.25"},{"v":10.757428207615549,"d":"10.76"},{"v":10.12635768857667,"d":"10.13"},{"v":10.883642311423325,"d":"10.88"},{"v":10.504999999999997,"d":"10.51"},null,0,0,{"$nulls":10},126,{"$error":"#N/A"},"","","","","",{"$error":"#N/A"}]
[null,127,"",{"$nulls":26},127,26,10.33,12,10,{"v":10.378785896192221,"d":"10.38"},{"v":10.631214103807773,"d":"10.63"},{"v":10.252571792384446,"d":"10.25"},{"v":10.757428207615549,"d":"10.76"},{"v":10.12635768857667,"d":"10.13"},{"v":10.883642311423325,"d":"10.88"},{"v":10.504999999999997,"d":"10.51"},null,0,0,{"$nulls":10},127,{"$error":"#N/A"},"","","","","",{"$error":"#N/A"}]
[null,128,"",{"$nulls":26},128,26,10.33,12,10,{"v":10.378785896192221,"d":"10.38"},{"v":10.631214103807773,"d":"10.63"},{"v":10.252571792384446,"d":"10.25"},{"v":10.757428207615549,"d":"10.76"},{"v":10.12635768857667,"d":"10.13"},{"v":10.883642311423325,"d":"10.88"},{"v":10.504999999999997,"d":"10.51"},null,0,0,{"$nulls":10},128,{"$error":"#N/A"},"","","","","",{"$error":"#N/A"}]
[null,129,"",{"$nulls":26},129,26,10.33,{"$f":"IF(C133<>\"\",OGW,AG132)","v":12},{"$f":"IF(C133<>\"\",UGW,AH132)","v":10},{"v":10.378785896192221,"d":"10.38"},{"v":10.631214103807773,"d":"10.63"},{"v":10.252571792384446,"d":"10.25"},{"v":10.757428207615549,"d":"10.76"},{"v":10.12635768857667,"d":"10.13"},{"v":10.883642311423325,"d":"10.88"},{"v":10.504999999999997,"d":"10.51"},null,{"$f":"IF(AND(C133<>\"\",C133<UGW),1,0)","v":0},{"$f":"IF(AND(C133<>\"\",C133>OGW),1,0)","v":0},{"$nulls":10},129,{"$f":"IF(C133=\"\",NA(),SMALL(xi,BE133))","v":{"$error":"#N/A"}},"",{"$f":"IF(C133=\"\",\"\",NORMSDIST((BD133-Mittelwert)/Standardabweichung))","v":""},{"$f":"IF(C133=\"\",\"\",1-BF133)","v":""},{"$f":"IF(C133=\"\",\"\",SMALL(BG,BE133))","v":""},{"$f":"IF(C133=\"\",\"\",(2*BE133-1)*(LN(BH133)+LN(BF133)))","v":""},{"$f":"IF(C133=\"\",NA(),NORMSINV((BE133-0.3)/(Anzahl+0.4)))","v":{"$error":"#N/A"}}]
[null,130,"",{"$nulls":26},130,26,10.33,12,10,{"$f":"AI133","v":{"v":10.378785896192221,"d":"10.38"}},{"v":10.631214103807773,"d":"10.63"},{"v":10.252571792384446,"d":"10.25"},{"v":10.757428207615549,"d":"10.76"},{"v":10.12635768857667,"d":"10.13"},{"v":10.883642311423325,"d":"10.88"},{"v":10.504999999999997,"d":"10.51"},null,0,0,{"$nulls":10},130,{"$error":"#N/A"},{"$f":"IF(C134=\"\",\"\",1+BE133)","v":""},"","","","",{"$error":"#N/A"}]
[null,131,"",{"$nulls":26},131,26,10.33,12,10,{"v":10.378785896192221,"d":"10.38"},{"v":10.631214103807773,"d":"10.63"},{"v":10.252571792384446,"d":"10.25"},{"v":10.757428207615549,"d":"10.76"},{"v":10.12635768857667,"d":"10.13"},{"v":10.883642311423325,"d":"10.88"},{"v":10.504999999999997,"d":"10.51"},null,0,0,{"$nulls":10},131,{"$error":"#N/A"},"","","","","",{"$error":"#N/A"}]
[null,132,"",{"$nulls":26},132,26,{"$f":"IF(C136<>\"\",C136,AF135)","v":10.33},12,10,{"v":10.378785896192221,"d":"10.38"},{"v":10.631214103807773,"d":"10.63"},{"v":10.252571792384446,"d":"10.25"},{"v":10.757428207615549,"d":"10.76"},{"v":10.12635768857667,"d":"10.13"},{"v":10.883642311423325,"d":"10.88"},{"v":10.504999999999997,"d":"10.51"},null,0,0,{"$nulls":10},132,{"$error":"#N/A"},"","","","","",{"$error":"#N/A"}]
[null,133,"",{"$nulls":26},133,{"$f":"IF((Anzahl>AD137),AD137,Anzahl)","v":26},10.33,12,10,{"v":10.378785896192221,"d":"10.38"},{"v":10.631214103807773,"d":"10.63"},{"v":10.252571792384446,"d":"10.25"},{"v":10.757428207615549,"d":"10.76"},{"v":10.12635768857667,"d":"10.13"},{"v":10.883642311423325,"d":"10.88"},{"v":10.504999999999997,"d":"10.51"},null,0,0,{"$nulls":10},133,{"$error":"#N/A"},"","","","","",{"$error":"#N/A"}]
[null,134,"",{"$nulls":26},134,26,10.33,12,10,{"v":10.378785896192221,"d":"10.38"},{"v":10.631214103807773,"d":"10.63"},{"v":10.252571792384446,"d":"10.25"},{"v":10.757428207615549,"d":"10.76"},{"v":10.12635768857667,"d":"10.13"},{"v":10.883642311423325,"d":"10.88"},{"v":10.504999999999997,"d":"10.51"},null,0,0,{"$nulls":10},134,{"$error":"#N/A"},"","","","","",{"$error":"#N/A"}]
[null,135,"",{"$nulls":26},135,26,10.33,12,10,{"v":10.378785896192221,"d":"10.38"},{"v":10.631214103807773,"d":"10.63"},{"v":10.252571792384446,"d":"10.25"},{"v":10.757428207615549,"d":"10.76"},{"v":10.12635768857667,"d":"10.13"},{"v":10.883642311423325,"d":"10.88"},{"v":10.504999999999997,"d":"10.51"},null,0,0,{"$nulls":10},135,{"$error":"#N/A"},"","","","","",{"$error":"#N/A"}]
[null,136,"",{"$nulls":26},136,26,10.33,12,10,{"v":10.378785896192221,"d":"10.38"},{"v":10.631214103807773,"d":"10.63"},{"v":10.252571792384446,"d":"10.25"},{"v":10.757428207615549,"d":"10.76"},{"v":10.12635768857667,"d":"10.13"},{"v":10.883642311423325,"d":"10.88"},{"v":10.504999999999997,"d":"10.51"},null,0,0,{"$nulls":10},136,{"$error":"#N/A"},"","","","","",{"$error":"#N/A"}]
[null,137,"",{"$nulls":26},137,26,10.33,12,10,{"v":10.378785896192221,"d":"10.38"},{"v":10.631214103807773,"d":"10.63"},{"v":10.252571792384446,"d":"10.25"},{"v":10.757428207615549,"d":"10.76"},{"v":10.12635768857667,"d":"10.13"},{"v":10.883642311423325,"d":"10.88"},{"v":10.504999999999997,"d":"10.51"},null,0,0,{"$nulls":10},137,{"$error":"#N/A"},"","","","","",{"$error":"#N/A"}]
[null,138,"",{"$nulls":26},138,26,10.33,12,10,{"v":10.378785896192221,"d":"10.38"},{"v":10.631214103807773,"d":"10.63"},{"v":10.252571792384446,"d":"10.25"},{"v":10.757428207615549,"d":"10.76"},{"v":10.12635768857667,"d":"10.13"},{"v":10.883642311423325,"d":"10.88"},{"v":10.504999999999997,"d":"10.51"},null,0,0,{"$nulls":10},138,{"$error":"#N/A"},"","","","","",{"$error":"#N/A"}]
[null,139,"",{"$nulls":26},139,26,10.33,12,10,{"v":10.378785896192221,"d":"10.38"},{"v":10.631214103807773,"d":"10.63"},{"v":10.252571792384446,"d":"10.25"},{"v":10.757428207615549,"d":"10.76"},{"v":10.12635768857667,"d":"10.13"},{"v":10.883642311423325,"d":"10.88"},{"v":10.504999999999997,"d":"10.51"},null,0,0,{"$nulls":10},139,{"$error":"#N/A"},"","","","","",{"$error":"#N/A"}]
[null,140,"",{"$nulls":26},140,26,10.33,12,10,{"v":10.378785896192221,"d":"10.38"},{"v":10.631214103807773,"d":"10.63"},{"v":10.252571792384446,"d":"10.25"},{"v":10.757428207615549,"d":"10.76"},{"v":10.12635768857667,"d":"10.13"},{"v":10.883642311423325,"d":"10.88"},{"v":10.504999999999997,"d":"10.51"},null,0,0,{"$nulls":10},140,{"$error":"#N/A"},"","","","","",{"$error":"#N/A"}]
[null,141,"",{"$nulls":26},141,26,10.33,12,10,{"v":10.378785896192221,"d":"10.38"},{"v":10.631214103807773,"d":"10.63"},{"v":10.252571792384446,"d":"10.25"},{"v":10.757428207615549,"d":"10.76"},{"v":10.12635768857667,"d":"10.13"},{"v":10.883642311423325,"d":"10.88"},{"v":10.504999999999997,"d":"10.51"},null,0,0,{"$nulls":10},141,{"$error":"#N/A"},"","","","","",{"$error":"#N/A"}]
[null,142,"",{"$nulls":26},142,26,10.33,12,10,{"v":10.378785896192221,"d":"10.38"},{"v":10.631214103807773,"d":"10.63"},{"v":10.252571792384446,"d":"10.25"},{"v":10.757428207615549,"d":"10.76"},{"v":10.12635768857667,"d":"10.13"},{"v":10.883642311423325,"d":"10.88"},{"v":10.504999999999997,"d":"10.51"},null,0,0,{"$nulls":10},142,{"$error":"#N/A"},"","","","","",{"$error":"#N/A"}]
[null,143,"",{"$nulls":26},143,26,10.33,12,10,{"v":10.378785896192221,"d":"10.38"},{"v":10.631214103807773,"d":"10.63"},{"v":10.252571792384446,"d":"10.25"},{"v":10.757428207615549,"d":"10.76"},{"v":10.12635768857667,"d":"10.13"},{"v":10.883642311423325,"d":"10.88"},{"v":10.504999999999997,"d":"10.51"},null,0,0,{"$nulls":10},143,{"$error":"#N/A"},"","","","","",{"$error":"#N/A"}]
[null,144,"",{"$nulls":26},144,26,10.33,12,10,{"v":10.378785896192221,"d":"10.38"},{"v":10.631214103807773,"d":"10.63"},{"v":10.252571792384446,"d":"10.25"},{"v":10.757428207615549,"d":"10.76"},{"v":10.12635768857667,"d":"10.13"},{"v":10.883642311423325,"d":"10.88"},{"v":10.504999999999997,"d":"10.51"},null,0,0,{"$nulls":10},144,{"$error":"#N/A"},"","","","","",{"$error":"#N/A"}]
[null,145,"",{"$nulls":26},145,26,10.33,12,10,{"v":10.378785896192221,"d":"10.38"},{"v":10.631214103807773,"d":"10.63"},{"v":10.252571792384446,"d":"10.25"},{"v":10.757428207615549,"d":"10.76"},{"v":10.12635768857667,"d":"10.13"},{"v":10.883642311423325,"d":"10.88"},{"v":10.504999999999997,"d":"10.51"},null,0,0,{"$nulls":10},145,{"$error":"#N/A"},"","","","","",{"$error":"#N/A"}]
[null,146,"",{"$nulls":26},146,26,10.33,12,10,{"$f":"AI149","v":{"v":10.378785896192221,"d":"10.38"}},{"v":10.631214103807773,"d":"10.63"},{"v":10.252571792384446,"d":"10.25"},{"v":10.757428207615549,"d":"10.76"},{"v":10.12635768857667,"d":"10.13"},{"v":10.883642311423325,"d":"10.88"},{"v":10.504999999999997,"d":"10.51"},null,0,0,{"$nulls":10},146,{"$error":"#N/A"},"","","","","",{"$error":"#N/A"}]
[null,147,"",{"$nulls":26},147,26,10.33,12,10,{"v":10.378785896192221,"d":"10.38"},{"v":10.631214103807773,"d":"10.63"},{"v":10.252571792384446,"d":"10.25"},{"v":10.757428207615549,"d":"10.76"},{"v":10.12635768857667,"d":"10.13"},{"v":10.883642311423325,"d":"10.88"},{"v":10.504999999999997,"d":"10.51"},null,0,0,{"$nulls":10},147,{"$error":"#N/A"},"","","","","",{"$error":"#N/A"}]
[null,148,"",{"$nulls":26},148,26,10.33,12,10,{"v":10.378785896192221,"d":"10.38"},{"v":10.631214103807773,"d":"10.63"},{"v":10.252571792384446,"d":"10.25"},{"v":10.757428207615549,"d":"10.76"},{"v":10.12635768857667,"d":"10.13"},{"v":10.883642311423325,"d":"10.88"},{"v":10.504999999999997,"d":"10.51"},null,0,0,{"$nulls":10},148,{"$error":"#N/A"},"","","","","",{"$error":"#N/A"}]
[null,149,"",{"$nulls":26},149,26,10.33,12,10,{"v":10.378785896192221,"d":"10.38"},{"v":10.631214103807773,"d":"10.63"},{"v":10.252571792384446,"d":"10.25"},{"v":10.757428207615549,"d":"10.76"},{"v":10.12635768857667,"d":"10.13"},{"v":10.883642311423325,"d":"10.88"},{"v":10.504999999999997,"d":"10.51"},null,0,0,{"$nulls":10},149,{"$error":"#N/A"},"","","","","",{"$error":"#N/A"}]
[null,150,"",{"$nulls":26},150,26,10.33,12,10,{"v":10.378785896192221,"d":"10.38"},{"v":10.631214103807773,"d":"10.63"},{"v":10.252571792384446,"d":"10.25"},{"v":10.757428207615549,"d":"10.76"},{"v":10.12635768857667,"d":"10.13"},{"v":10.883642311423325,"d":"10.88"},{"v":10.504999999999997,"d":"10.51"},null,0,0,{"$nulls":10},150,{"$error":"#N/A"},"","","","","",{"$error":"#N/A"}]
[null,151,{"$f":"IF(L5=\"\",\"\",L5)","v":""},{"$nulls":26},151,26,10.33,12,10,{"v":10.378785896192221,"d":"10.38"},{"v":10.631214103807773,"d":"10.63"},{"v":10.252571792384446,"d":"10.25"},{"v":10.757428207615549,"d":"10.76"},{"v":10.12635768857667,"d":"10.13"},{"v":10.883642311423325,"d":"10.88"},{"v":10.504999999999997,"d":"10.51"},null,0,0,{"$nulls":10},151,{"$error":"#N/A"},"","","","","",{"$error":"#N/A"}]
[null,152,{"$f":"IF(L6=\"\",\"\",L6)","v":""},{"$nulls":26},152,26,10.33,12,10,{"v":10.378785896192221,"d":"10.38"},{"v":10.631214103807773,"d":"10.63"},{"v":10.252571792384446,"d":"10.25"},{"v":10.757428207615549,"d":"10.76"},{"v":10.12635768857667,"d":"10.13"},{"v":10.883642311423325,"d":"10.88"},{"v":10.504999999999997,"d":"10.51"},null,0,0,{"$nulls":10},152,{"$error":"#N/A"},"","","","","",{"$error":"#N/A"}]
[null,153,"",{"$nulls":26},153,26,10.33,12,10,{"v":10.378785896192221,"d":"10.38"},{"v":10.631214103807773,"d":"10.63"},{"v":10.252571792384446,"d":"10.25"},{"v":10.757428207615549,"d":"10.76"},{"v":10.12635768857667,"d":"10.13"},{"v":10.883642311423325,"d":"10.88"},{"v":10.504999999999997,"d":"10.51"},null,0,0,{"$nulls":10},153,{"$error":"#N/A"},"","","","","",{"$error":"#N/A"}]
[null,154,"",{"$nulls":26},154,26,10.33,12,10,{"v":10.378785896192221,"d":"10.38"},{"v":10.631214103807773,"d":"10.63"},{"v":10.252571792384446,"d":"10.25"},{"v":10.757428207615549,"d":"10.76"},{"v":10.12635768857667,"d":"10.13"},{"v":10.883642311423325,"d":"10.88"},{"v":10.504999999999997,"d":"10.51"},null,0,0,{"$nulls":10},154,{"$error":"#N/A"},"","","","","",{"$error":"#N/A"}]
[null,155,"",{"$nulls":26},155,26,10.33,12,10,{"v":10.378785896192221,"d":"10.38"},{"v":10.631214103807773,"d":"10.63"},{"v":10.252571792384446,"d":"10.25"},{"v":10.757428207615549,"d":"10.76"},{"v":10.12635768857667,"d":"10.13"},{"v":10.883642311423325,"d":"10.88"},{"v":10.504999999999997,"d":"10.51"},null,0,0,{"$nulls":10},155,{"$error":"#N/A"},"","","","","",{"$error":"#N/A"}]
[null,156,"",{"$nulls":26},156,26,10.33,12,10,{"v":10.378785896192221,"d":"10.38"},{"v":10.631214103807773,"d":"10.63"},{"v":10.252571792384446,"d":"10.25"},{"v":10.757428207615549,"d":"10.76"},{"v":10.12635768857667,"d":"10.13"},{"v":10.883642311423325,"d":"10.88"},{"v":10.504999999999997,"d":"10.51"},null,0,0,{"$nulls":10},156,{"$error":"#N/A"},"","","","","",{"$error":"#N/A"}]
[null,157,"",{"$nulls":26},157,26,10.33,12,10,{"v":10.378785896192221,"d":"10.38"},{"v":10.631214103807773,"d":"10.63"},{"v":10.252571792384446,"d":"10.25"},{"v":10.757428207615549,"d":"10.76"},{"v":10.12635768857667,"d":"10.13"},{"v":10.883642311423325,"d":"10.88"},{"v":10.504999999999997,"d":"10.51"},null,0,0,{"$nulls":10},157,{"$error":"#N/A"},"","","","","",{"$error":"#N/A"}]
[null,158,"",{"$nulls":26},158,26,10.33,12,10,{"v":10.378785896192221,"d":"10.38"},{"v":10.631214103807773,"d":"10.63"},{"v":10.252571792384446,"d":"10.25"},{"v":10.757428207615549,"d":"10.76"},{"v":10.12635768857667,"d":"10.13"},{"v":10.883642311423325,"d":"10.88"},{"v":10.504999999999997,"d":"10.51"},null,0,0,{"$nulls":10},158,{"$error":"#N/A"},"","","","","",{"$error":"#N/A"}]
[null,159,"",{"$nulls":26},159,26,10.33,12,10,{"v":10.378785896192221,"d":"10.38"},{"v":10.631214103807773,"d":"10.63"},{"v":10.252571792384446,"d":"10.25"},{"v":10.757428207615549,"d":"10.76"},{"v":10.12635768857667,"d":"10.13"},{"v":10.883642311423325,"d":"10.88"},{"v":10.504999999999997,"d":"10.51"},null,0,0,{"$nulls":10},159,{"$error":"#N/A"},"","","","","",{"$error":"#N/A"}]
[null,160,"",{"$nulls":26},160,26,10.33,12,10,{"v":10.378785896192221,"d":"10.38"},{"v":10.631214103807773,"d":"10.63"},{"v":10.252571792384446,"d":"10.25"},{"v":10.757428207615549,"d":"10.76"},{"v":10.12635768857667,"d":"10.13"},{"v":10.883642311423325,"d":"10.88"},{"v":10.504999999999997,"d":"10.51"},null,0,0,{"$nulls":10},160,{"$error":"#N/A"},"","","","","",{"$error":"#N/A"}]
[null,161,"",{"$nulls":26},161,26,10.33,{"$f":"IF(C165<>\"\",OGW,AG164)","v":12},{"$f":"IF(C165<>\"\",UGW,AH164)","v":10},{"v":10.378785896192221,"d":"10.38"},{"v":10.631214103807773,"d":"10.63"},{"v":10.252571792384446,"d":"10.25"},{"v":10.757428207615549,"d":"10.76"},{"v":10.12635768857667,"d":"10.13"},{"v":10.883642311423325,"d":"10.88"},{"v":10.504999999999997,"d":"10.51"},null,{"$f":"IF(AND(C165<>\"\",C165<UGW),1,0)","v":0},{"$f":"IF(AND(C165<>\"\",C165>OGW),1,0)","v":0},{"$nulls":10},161,{"$f":"IF(C165=\"\",NA(),SMALL(xi,BE165))","v":{"$error":"#N/A"}},"",{"$f":"IF(C165=\"\",\"\",NORMSDIST((BD165-Mittelwert)/Standardabweichung))","v":""},{"$f":"IF(C165=\"\",\"\",1-BF165)","v":""},{"$f":"IF(C165=\"\",\"\",SMALL(BG,BE165))","v":""},{"$f":"IF(C165=\"\",\"\",(2*BE165-1)*(LN(BH165)+LN(BF165)))","v":""},{"$f":"IF(C165=\"\",NA(),NORMSINV((BE165-0.3)/(Anzahl+0.4)))","v":{"$error":"#N/A"}}]
[null,162,"",{"$nulls":26},162,26,10.33,12,10,{"$f":"AI165","v":{"v":10.378785896192221,"d":"10.38"}},{"v":10.631214103807773,"d":"10.63"},{"v":10.252571792384446,"d":"10.25"},{"v":10.757428207615549,"d":"10.76"},{"v":10.12635768857667,"d":"10.13"},{"v":10.883642311423325,"d":"10.88"},{"v":10.504999999999997,"d":"10.51"},null,0,0,{"$nulls":10},162,{"$error":"#N/A"},{"$f":"IF(C166=\"\",\"\",1+BE165)","v":""},"","","","",{"$error":"#N/A"}]
[null,163,"",{"$nulls":26},163,26,10.33,12,10,{"v":10.378785896192221,"d":"10.38"},{"v":10.631214103807773,"d":"10.63"},{"v":10.252571792384446,"d":"10.25"},{"v":10.757428207615549,"d":"10.76"},{"v":10.12635768857667,"d":"10.13"},{"v":10.883642311423325,"d":"10.88"},{"v":10.504999999999997,"d":"10.51"},null,0,0,{"$nulls":10},163,{"$error":"#N/A"},"","","","","",{"$error":"#N/A"}]
[null,164,"",{"$nulls":26},164,26,10.33,12,10,{"v":10.378785896192221,"d":"10.38"},{"v":10.631214103807773,"d":"10.63"},{"v":10.252571792384446,"d":"10.25"},{"v":10.757428207615549,"d":"10.76"},{"v":10.12635768857667,"d":"10.13"},{"v":10.883642311423325,"d":"10.88"},{"v":10.504999999999997,"d":"10.51"},null,0,0,{"$nulls":10},164,{"$error":"#N/A"},"","","","","",{"$error":"#N/A"}]
[null,165,"",{"$nulls":26},165,{"$f":"IF((Anzahl>AD169),AD169,Anzahl)","v":26},10.33,12,10,{"v":10.378785896192221,"d":"10.38"},{"v":10.631214103807773,"d":"10.63"},{"v":10.252571792384446,"d":"10.25"},{"v":10.757428207615549,"d":"10.76"},{"v":10.12635768857667,"d":"10.13"},{"v":10.883642311423325,"d":"10.88"},{"v":10.504999999999997,"d":"10.51"},null,0,0,{"$nulls":10},165,{"$error":"#N/A"},"","","","","",{"$error":"#N/A"}]
[null,166,"",{"$nulls":26},166,26,10.33,12,10,{"v":10.378785896192221,"d":"10.38"},{"v":10.631214103807773,"d":"10.63"},{"v":10.252571792384446,"d":"10.25"},{"v":10.757428207615549,"d":"10.76"},{"v":10.12635768857667,"d":"10.13"},{"v":10.883642311423325,"d":"10.88"},{"v":10.504999999999997,"d":"10.51"},null,0,0,{"$nulls":10},166,{"$error":"#N/A"},"","","","","",{"$error":"#N/A"}]
[null,167,"",{"$nulls":26},167,26,10.33,12,10,{"v":10.378785896192221,"d":"10.38"},{"v":10.631214103807773,"d":"10.63"},{"v":10.252571792384446,"d":"10.25"},{"v":10.757428207615549,"d":"10.76"},{"v":10.12635768857667,"d":"10.13"},{"v":10.883642311423325,"d":"10.88"},{"v":10.504999999999997,"d":"10.51"},null,0,0,{"$nulls":10},167,{"$error":"#N/A"},"","","","","",{"$error":"#N/A"}]
[null,168,"",{"$nulls":26},168,26,10.33,12,10,{"v":10.378785896192221,"d":"10.38"},{"v":10.631214103807773,"d":"10.63"},{"v":10.252571792384446,"d":"10.25"},{"v":10.757428207615549,"d":"10.76"},{"v":10.12635768857667,"d":"10.13"},{"v":10.883642311423325,"d":"10.88"},{"v":10.504999999999997,"d":"10.51"},null,0,0,{"$nulls":10},168,{"$error":"#N/A"},"","","","","",{"$error":"#N/A"}]
[null,169,"",{"$nulls":26},169,26,10.33,12,10,{"v":10.378785896192221,"d":"10.38"},{"v":10.631214103807773,"d":"10.63"},{"v":10.252571792384446,"d":"10.25"},{"v":10.757428207615549,"d":"10.76"},{"v":10.12635768857667,"d":"10.13"},{"v":10.883642311423325,"d":"10.88"},{"v":10.504999999999997,"d":"10.51"},null,0,0,{"$nulls":10},169,{"$error":"#N/A"},"","","","","",{"$error":"#N/A"}]
[null,170,"",{"$nulls":26},170,26,10.33,12,10,{"v":10.378785896192221,"d":"10.38"},{"v":10.631214103807773,"d":"10.63"},{"v":10.252571792384446,"d":"10.25"},{"v":10.757428207615549,"d":"10.76"},{"v":10.12635768857667,"d":"10.13"},{"v":10.883642311423325,"d":"10.88"},{"v":10.504999999999997,"d":"10.51"},null,0,0,{"$nulls":10},170,{"$error":"#N/A"},"","","","","",{"$error":"#N/A"}]
[null,171,"",{"$nulls":26},171,26,10.33,12,10,{"v":10.378785896192221,"d":"10.38"},{"v":10.631214103807773,"d":"10.63"},{"v":10.252571792384446,"d":"10.25"},{"v":10.757428207615549,"d":"10.76"},{"v":10.12635768857667,"d":"10.13"},{"v":10.883642311423325,"d":"10.88"},{"v":10.504999999999997,"d":"10.51"},null,0,0,{"$nulls":10},171,{"$error":"#N/A"},"","","","","",{"$error":"#N/A"}]
[null,172,"",{"$nulls":26},172,26,10.33,12,10,{"v":10.378785896192221,"d":"10.38"},{"v":10.631214103807773,"d":"10.63"},{"v":10.252571792384446,"d":"10.25"},{"v":10.757428207615549,"d":"10.76"},{"v":10.12635768857667,"d":"10.13"},{"v":10.883642311423325,"d":"10.88"},{"v":10.504999999999997,"d":"10.51"},null,0,0,{"$nulls":10},172,{"$error":"#N/A"},"","","","","",{"$error":"#N/A"}]
[null,173,"",{"$nulls":26},173,26,10.33,12,10,{"v":10.378785896192221,"d":"10.38"},{"v":10.631214103807773,"d":"10.63"},{"v":10.252571792384446,"d":"10.25"},{"v":10.757428207615549,"d":"10.76"},{"v":10.12635768857667,"d":"10.13"},{"v":10.883642311423325,"d":"10.88"},{"v":10.504999999999997,"d":"10.51"},null,0,0,{"$nulls":10},173,{"$error":"#N/A"},"","","","","",{"$error":"#N/A"}]
[null,174,"",{"$nulls":26},174,26,10.33,12,10,{"v":10.378785896192221,"d":"10.38"},{"v":10.631214103807773,"d":"10.63"},{"v":10.252571792384446,"d":"10.25"},{"v":10.757428207615549,"d":"10.76"},{"v":10.12635768857667,"d":"10.13"},{"v":10.883642311423325,"d":"10.88"},{"v":10.504999999999997,"d":"10.51"},null,0,0,{"$nulls":10},174,{"$error":"#N/A"},"","","","","",{"$error":"#N/A"}]
[null,175,"",{"$nulls":26},175,26,10.33,12,10,{"v":10.378785896192221,"d":"10.38"},{"v":10.631214103807773,"d":"10.63"},{"v":10.252571792384446,"d":"10.25"},{"v":10.757428207615549,"d":"10.76"},{"v":10.12635768857667,"d":"10.13"},{"v":10.883642311423325,"d":"10.88"},{"v":10.504999999999997,"d":"10.51"},null,0,0,{"$nulls":10},175,{"$error":"#N/A"},"","","","","",{"$error":"#N/A"}]
[null,176,"",{"$nulls":26},176,26,10.33,12,10,{"v":10.378785896192221,"d":"10.38"},{"v":10.631214103807773,"d":"10.63"},{"v":10.252571792384446,"d":"10.25"},{"v":10.757428207615549,"d":"10.76"},{"v":10.12635768857667,"d":"10.13"},{"v":10.883642311423325,"d":"10.88"},{"v":10.504999999999997,"d":"10.51"},null,0,0,{"$nulls":10},176,{"$error":"#N/A"},"","","","","",{"$error":"#N/A"}]
[null,177,"",{"$nulls":26},177,26,10.33,12,10,{"v":10.378785896192221,"d":"10.38"},{"v":10.631214103807773,"d":"10.63"},{"v":10.252571792384446,"d":"10.25"},{"v":10.757428207615549,"d":"10.76"},{"v":10.12635768857667,"d":"10.13"},{"v":10.883642311423325,"d":"10.88"},{"v":10.504999999999997,"d":"10.51"},null,0,0,{"$nulls":10},177,{"$error":"#N/A"},"","","","","",{"$error":"#N/A"}]
[null,178,"",{"$nulls":26},178,26,10.33,12,10,{"$f":"AI181","v":{"v":10.378785896192221,"d":"10.38"}},{"v":10.631214103807773,"d":"10.63"},{"v":10.252571792384446,"d":"10.25"},{"v":10.757428207615549,"d":"10.76"},{"v":10.12635768857667,"d":"10.13"},{"v":10.883642311423325,"d":"10.88"},{"v":10.504999999999997,"d":"10.51"},null,0,0,{"$nulls":10},178,{"$error":"#N/A"},"","","","","",{"$error":"#N/A"}]
[null,179,"",{"$nulls":26},179,26,10.33,12,10,{"v":10.378785896192221,"d":"10.38"},{"v":10.631214103807773,"d":"10.63"},{"v":10.252571792384446,"d":"10.25"},{"v":10.757428207615549,"d":"10.76"},{"v":10.12635768857667,"d":"10.13"},{"v":10.883642311423325,"d":"10.88"},{"v":10.504999999999997,"d":"10.51"},null,0,0,{"$nulls":10},179,{"$error":"#N/A"},"","","","","",{"$error":"#N/A"}]
[null,180,"",{"$nulls":26},180,26,10.33,12,10,{"v":10.378785896192221,"d":"10.38"},{"v":10.631214103807773,"d":"10.63"},{"v":10.252571792384446,"d":"10.25"},{"v":10.757428207615549,"d":"10.76"},{"v":10.12635768857667,"d":"10.13"},{"v":10.883642311423325,"d":"10.88"},{"v":10.504999999999997,"d":"10.51"},null,0,0,{"$nulls":10},180,{"$error":"#N/A"},"","","","","",{"$error":"#N/A"}]
[null,181,"",{"$nulls":26},181,26,10.33,12,10,{"v":10.378785896192221,"d":"10.38"},{"v":10.631214103807773,"d":"10.63"},{"v":10.252571792384446,"d":"10.25"},{"v":10.757428207615549,"d":"10.76"},{"v":10.12635768857667,"d":"10.13"},{"v":10.883642311423325,"d":"10.88"},{"v":10.504999999999997,"d":"10.51"},null,0,0,{"$nulls":10},181,{"$error":"#N/A"},"","","","","",{"$error":"#N/A"}]
[null,182,"",{"$nulls":26},182,26,10.33,12,10,{"v":10.378785896192221,"d":"10.38"},{"v":10.631214103807773,"d":"10.63"},{"v":10.252571792384446,"d":"10.25"},{"v":10.757428207615549,"d":"10.76"},{"v":10.12635768857667,"d":"10.13"},{"v":10.883642311423325,"d":"10.88"},{"v":10.504999999999997,"d":"10.51"},null,0,0,{"$nulls":10},182,{"$error":"#N/A"},"","","","","",{"$error":"#N/A"}]
[null,183,"",{"$nulls":26},183,26,10.33,12,10,{"v":10.378785896192221,"d":"10.38"},{"v":10.631214103807773,"d":"10.63"},{"v":10.252571792384446,"d":"10.25"},{"v":10.757428207615549,"d":"10.76"},{"v":10.12635768857667,"d":"10.13"},{"v":10.883642311423325,"d":"10.88"},{"v":10.504999999999997,"d":"10.51"},null,0,0,{"$nulls":10},183,{"$error":"#N/A"},"","","","","",{"$error":"#N/A"}]
[null,184,"",{"$nulls":26},184,26,10.33,12,10,{"v":10.378785896192221,"d":"10.38"},{"v":10.631214103807773,"d":"10.63"},{"v":10.252571792384446,"d":"10.25"},{"v":10.757428207615549,"d":"10.76"},{"v":10.12635768857667,"d":"10.13"},{"v":10.883642311423325,"d":"10.88"},{"v":10.504999999999997,"d":"10.51"},null,0,0,{"$nulls":10},184,{"$error":"#N/A"},"","","","","",{"$error":"#N/A"}]
[null,185,"",{"$nulls":26},185,26,10.33,12,10,{"v":10.378785896192221,"d":"10.38"},{"v":10.631214103807773,"d":"10.63"},{"v":10.252571792384446,"d":"10.25"},{"v":10.757428207615549,"d":"10.76"},{"v":10.12635768857667,"d":"10.13"},{"v":10.883642311423325,"d":"10.88"},{"v":10.504999999999997,"d":"10.51"},null,0,0,{"$nulls":10},185,{"$error":"#N/A"},"","","","","",{"$error":"#N/A"}]
[null,186,"",{"$nulls":26},186,26,10.33,12,10,{"v":10.378785896192221,"d":"10.38"},{"v":10.631214103807773,"d":"10.63"},{"v":10.252571792384446,"d":"10.25"},{"v":10.757428207615549,"d":"10.76"},{"v":10.12635768857667,"d":"10.13"},{"v":10.883642311423325,"d":"10.88"},{"v":10.504999999999997,"d":"10.51"},null,0,0,{"$nulls":10},186,{"$error":"#N/A"},"","","","","",{"$error":"#N/A"}]
[null,187,"",{"$nulls":26},187,26,10.33,12,10,{"v":10.378785896192221,"d":"10.38"},{"v":10.631214103807773,"d":"10.63"},{"v":10.252571792384446,"d":"10.25"},{"v":10.757428207615549,"d":"10.76"},{"v":10.12635768857667,"d":"10.13"},{"v":10.883642311423325,"d":"10.88"},{"v":10.504999999999997,"d":"10.51"},null,0,0,{"$nulls":10},187,{"$error":"#N/A"},"","","","","",{"$error":"#N/A"}]
[null,188,"",{"$nulls":26},188,26,10.33,12,10,{"v":10.378785896192221,"d":"10.38"},{"v":10.631214103807773,"d":"10.63"},{"v":10.252571792384446,"d":"10.25"},{"v":10.757428207615549,"d":"10.76"},{"v":10.12635768857667,"d":"10.13"},{"v":10.883642311423325,"d":"10.88"},{"v":10.504999999999997,"d":"10.51"},null,0,0,{"$nulls":10},188,{"$error":"#N/A"},"","","","","",{"$error":"#N/A"}]
[null,189,"",{"$nulls":26},189,26,10.33,12,10,{"v":10.378785896192221,"d":"10.38"},{"v":10.631214103807773,"d":"10.63"},{"v":10.252571792384446,"d":"10.25"},{"v":10.757428207615549,"d":"10.76"},{"v":10.12635768857667,"d":"10.13"},{"v":10.883642311423325,"d":"10.88"},{"v":10.504999999999997,"d":"10.51"},null,0,0,{"$nulls":10},189,{"$error":"#N/A"},"","","","","",{"$error":"#N/A"}]
[null,190,"",{"$nulls":26},190,26,10.33,12,10,{"v":10.378785896192221,"d":"10.38"},{"v":10.631214103807773,"d":"10.63"},{"v":10.252571792384446,"d":"10.25"},{"v":10.757428207615549,"d":"10.76"},{"v":10.12635768857667,"d":"10.13"},{"v":10.883642311423325,"d":"10.88"},{"v":10.504999999999997,"d":"10.51"},null,0,0,{"$nulls":10},190,{"$error":"#N/A"},"","","","","",{"$error":"#N/A"}]
[null,191,"",{"$nulls":26},191,26,10.33,12,10,{"v":10.378785896192221,"d":"10.38"},{"v":10.631214103807773,"d":"10.63"},{"v":10.252571792384446,"d":"10.25"},{"v":10.757428207615549,"d":"10.76"},{"v":10.12635768857667,"d":"10.13"},{"v":10.883642311423325,"d":"10.88"},{"v":10.504999999999997,"d":"10.51"},null,0,0,{"$nulls":10},191,{"$error":"#N/A"},"","","","","",{"$error":"#N/A"}]
[null,192,"",{"$nulls":26},192,26,10.33,12,10,{"v":10.378785896192221,"d":"10.38"},{"v":10.631214103807773,"d":"10.63"},{"v":10.252571792384446,"d":"10.25"},{"v":10.757428207615549,"d":"10.76"},{"v":10.12635768857667,"d":"10.13"},{"v":10.883642311423325,"d":"10.88"},{"v":10.504999999999997,"d":"10.51"},null,0,0,{"$nulls":10},192,{"$error":"#N/A"},"","","","","",{"$error":"#N/A"}]
[null,193,"",{"$nulls":26},193,26,10.33,{"$f":"IF(C197<>\"\",OGW,AG196)","v":12},{"$f":"IF(C197<>\"\",UGW,AH196)","v":10},{"v":10.378785896192221,"d":"10.38"},{"v":10.631214103807773,"d":"10.63"},{"v":10.252571792384446,"d":"10.25"},{"v":10.757428207615549,"d":"10.76"},{"v":10.12635768857667,"d":"10.13"},{"v":10.883642311423325,"d":"10.88"},{"v":10.504999999999997,"d":"10.51"},null,{"$f":"IF(AND(C197<>\"\",C197<UGW),1,0)","v":0},{"$f":"IF(AND(C197<>\"\",C197>OGW),1,0)","v":0},{"$nulls":10},193,{"$f":"IF(C197=\"\",NA(),SMALL(xi,BE197))","v":{"$error":"#N/A"}},"",{"$f":"IF(C197=\"\",\"\",NORMSDIST((BD197-Mittelwert)/Standardabweichung))","v":""},{"$f":"IF(C197=\"\",\"\",1-BF197)","v":""},{"$f":"IF(C197=\"\",\"\",SMALL(BG,BE197))","v":""},{"$f":"IF(C197=\"\",\"\",(2*BE197-1)*(LN(BH197)+LN(BF197)))","v":""},{"$f":"IF(C197=\"\",NA(),NORMSINV((BE197-0.3)/(Anzahl+0.4)))","v":{"$error":"#N/A"}}]
[null,194,"",{"$nulls":26},194,26,10.33,12,10,{"$f":"AI197","v":{"v":10.378785896192221,"d":"10.38"}},{"v":10.631214103807773,"d":"10.63"},{"v":10.252571792384446,"d":"10.25"},{"v":10.757428207615549,"d":"10.76"},{"v":10.12635768857667,"d":"10.13"},{"v":10.883642311423325,"d":"10.88"},{"v":10.504999999999997,"d":"10.51"},null,0,0,{"$nulls":10},194,{"$error":"#N/A"},{"$f":"IF(C198=\"\",\"\",1+BE197)","v":""},"","","","",{"$error":"#N/A"}]
[null,195,"",{"$nulls":26},195,26,10.33,12,10,{"v":10.378785896192221,"d":"10.38"},{"v":10.631214103807773,"d":"10.63"},{"v":10.252571792384446,"d":"10.25"},{"v":10.757428207615549,"d":"10.76"},{"v":10.12635768857667,"d":"10.13"},{"v":10.883642311423325,"d":"10.88"},{"v":10.504999999999997,"d":"10.51"},null,0,0,{"$nulls":10},195,{"$error":"#N/A"},"","","","","",{"$error":"#N/A"}]
[null,196,"",{"$nulls":26},196,26,{"$f":"IF(C200<>\"\",C200,AF199)","v":10.33},12,10,{"v":10.378785896192221,"d":"10.38"},{"v":10.631214103807773,"d":"10.63"},{"v":10.252571792384446,"d":"10.25"},{"v":10.757428207615549,"d":"10.76"},{"v":10.12635768857667,"d":"10.13"},{"v":10.883642311423325,"d":"10.88"},{"v":10.504999999999997,"d":"10.51"},null,0,0,{"$nulls":10},196,{"$error":"#N/A"},"","","","","",{"$error":"#N/A"}]
[null,197,"",{"$nulls":26},197,{"$f":"IF((Anzahl>AD201),AD201,Anzahl)","v":26},10.33,12,10,{"v":10.378785896192221,"d":"10.38"},{"v":10.631214103807773,"d":"10.63"},{"v":10.252571792384446,"d":"10.25"},{"v":10.757428207615549,"d":"10.76"},{"v":10.12635768857667,"d":"10.13"},{"v":10.883642311423325,"d":"10.88"},{"v":10.504999999999997,"d":"10.51"},null,0,0,{"$nulls":10},197,{"$error":"#N/A"},"","","","","",{"$error":"#N/A"}]
[null,198,"",{"$nulls":26},198,26,10.33,12,10,{"v":10.378785896192221,"d":"10.38"},{"v":10.631214103807773,"d":"10.63"},{"v":10.252571792384446,"d":"10.25"},{"v":10.757428207615549,"d":"10.76"},{"v":10.12635768857667,"d":"10.13"},{"v":10.883642311423325,"d":"10.88"},{"v":10.504999999999997,"d":"10.51"},null,0,0,{"$nulls":10},198,{"$error":"#N/A"},"","","","","",{"$error":"#N/A"}]
[null,199,"",{"$nulls":26},199,26,10.33,12,10,{"v":10.378785896192221,"d":"10.38"},{"v":10.631214103807773,"d":"10.63"},{"v":10.252571792384446,"d":"10.25"},{"v":10.757428207615549,"d":"10.76"},{"v":10.12635768857667,"d":"10.13"},{"v":10.883642311423325,"d":"10.88"},{"v":10.504999999999997,"d":"10.51"},null,0,0,{"$nulls":10},199,{"$error":"#N/A"},"","","","","",{"$error":"#N/A"}]
[null,200,"",{"$nulls":26},200,26,10.33,12,10,{"v":10.378785896192221,"d":"10.38"},{"v":10.631214103807773,"d":"10.63"},{"v":10.252571792384446,"d":"10.25"},{"v":10.757428207615549,"d":"10.76"},{"v":10.12635768857667,"d":"10.13"},{"v":10.883642311423325,"d":"10.88"},{"v":10.504999999999997,"d":"10.51"},null,0,0,{"$nulls":10},200,{"$error":"#N/A"},"","","","","",{"$error":"#N/A"}]
[{"$nulls":41},"Summe",{"$f":"SUM(AQ5:AQ204)","v":0},{"$f":"SUM(AR5:AR204)","v":0}]